BEGIN:VCALENDAR
VERSION:2.0
PRODID:-//192.99.84.55//NONSGML kigkonsult.se iCalcreator 2.20//
CALSCALE:GREGORIAN
METHOD:PUBLISH
X-WR-TIMEZONE:UTC
BEGIN:VEVENT
UID:event1701@Congreso 2017
DTSTAMP:20260421T030613Z
CATEGORIES:Mesa de trabajo: Pluralismo terapêutico e novas configurações do
  social
DESCRIPTION:Mesa de trabajo: Pluralismo terapêutico e novas configurações d
 o social\nCategoría: Mesa de trabajo: Pluralismo terapêutico e novas confi
 gurações do social\nEnlace: https://www.asociacionlatinoamericanadeantropo
 logia.net/congreso2017/index.php?option=com_jem&view=event&id=1701:mesa-de
 -trabajo-pluralismo-terapeutico-e-novas-configuracoes-do-social\n
DTSTART:20170608T160000Z
DTEND:20170608T180000Z
LOCATION:Edificio: 02 Salón: 403\,Universidad Javeriana\,Bogotá\,Colombia
SUMMARY:Mesa de trabajo: Pluralismo terapêutico e novas configurações do so
 cial
URL:https://www.asociacionlatinoamericanadeantropologia.net/congreso2017/in
 dex.php?option=com_jem&view=event&id=1701:mesa-de-trabajo-pluralismo-terap
 eutico-e-novas-configuracoes-do-social
END:VEVENT
END:VCALENDAR
