BEGIN:VCALENDAR
VERSION:2.0
PRODID:-//192.99.84.55//NONSGML kigkonsult.se iCalcreator 2.20//
CALSCALE:GREGORIAN
METHOD:PUBLISH
X-WR-TIMEZONE:UTC
BEGIN:VEVENT
UID:event1700@Congreso 2017
DTSTAMP:20260421T030602Z
CATEGORIES:Mesa de trabajo: Narrativas del padecer: identidad\, subjetivida
 d y experiencia. Aproximaciones teóri
DESCRIPTION:Mesa de trabajo: Narrativas del padecer: identidad\, subjetivid
 ad y experiencia. Aproximaciones teórico-metodológicas.\nCategoría: Mesa d
 e trabajo: Narrativas del padecer: identidad\, subjetividad y experiencia.
  Aproximaciones teóri\nEnlace: https://www.asociacionlatinoamericanadeantr
 opologia.net/congreso2017/index.php?option=com_jem&view=event&id=1700:mesa
 -de-trabajo-narrativas-del-padecer-identidad-subjetividad-y-experiencia-ap
 roximaciones-teorico-metodologicas\n
DTSTART:20170606T140000Z
DTEND:20170606T180000Z
LOCATION:Edificio: 67 Salón: 214\,Universidad Javeriana\,Bogotá\,Colombia
SUMMARY:Mesa de trabajo: Narrativas del padecer: identidad\, subjetividad y
  experiencia. Aproximaciones teórico-metodológicas.
URL:https://www.asociacionlatinoamericanadeantropologia.net/congreso2017/in
 dex.php?option=com_jem&view=event&id=1700:mesa-de-trabajo-narrativas-del-p
 adecer-identidad-subjetividad-y-experiencia-aproximaciones-teorico-metodol
 ogicas
END:VEVENT
END:VCALENDAR
