BEGIN:VCALENDAR
VERSION:2.0
PRODID:-//192.99.84.55//NONSGML kigkonsult.se iCalcreator 2.20//
CALSCALE:GREGORIAN
METHOD:PUBLISH
X-WR-TIMEZONE:UTC
BEGIN:VEVENT
UID:event1699@Congreso 2017
DTSTAMP:20260421T030603Z
CATEGORIES:Mesa de trabajo: Afectos\, estéticas y acción política
DESCRIPTION:Mesa de trabajo: Afectos\, estéticas y acción política\nCategor
 ía: Mesa de trabajo: Afectos\, estéticas y acción política\nEnlace: https:
 //www.asociacionlatinoamericanadeantropologia.net/congreso2017/index.php?o
 ption=com_jem&view=event&id=1699:mesa-de-trabajo-afectos-esteticas-y-accio
 n-politica\n
DTSTART:20170608T160000Z
DTEND:20170608T180000Z
LOCATION:Edificio: 02 Salón: 404\,Universidad Javeriana\,Bogotá\,Colombia
SUMMARY:Mesa de trabajo: Afectos\, estéticas y acción política
URL:https://www.asociacionlatinoamericanadeantropologia.net/congreso2017/in
 dex.php?option=com_jem&view=event&id=1699:mesa-de-trabajo-afectos-estetica
 s-y-accion-politica
END:VEVENT
END:VCALENDAR
