BEGIN:VCALENDAR
VERSION:2.0
PRODID:-//192.99.84.55//NONSGML kigkonsult.se iCalcreator 2.20//
CALSCALE:GREGORIAN
METHOD:PUBLISH
X-WR-TIMEZONE:UTC
BEGIN:VEVENT
UID:event1243@Congreso 2017
DTSTAMP:20260421T030609Z
CATEGORIES:Simposio: Usos y costumbres antropológicos en México: las relaci
 ones interculturales en el trabajo e
DESCRIPTION:Los cantos rituales y las concepciones intelectuales coras. El 
 arte relacional de la traducción.    \nCategoría: Simposio: Usos y costumb
 res antropológicos en México: las relaciones interculturales en el trabajo
  e\nEnlace: https://www.asociacionlatinoamericanadeantropologia.net/congre
 so2017/index.php?option=com_jem&view=event&id=1243:los-cantos-rituales-y-l
 as-concepciones-intelectuales-coras-el-arte-relacional-de-la-traduccion\n
DTSTART:20170606T140000Z
DTEND:20170606T180000Z
LOCATION:Edificio: 02 Salón: 404\,Universidad Javeriana\,Bogotá\,Colombia
SUMMARY:Los cantos rituales y las concepciones intelectuales coras. El arte
  relacional de la traducción.    
URL:https://www.asociacionlatinoamericanadeantropologia.net/congreso2017/in
 dex.php?option=com_jem&view=event&id=1243:los-cantos-rituales-y-las-concep
 ciones-intelectuales-coras-el-arte-relacional-de-la-traduccion
END:VEVENT
BEGIN:VEVENT
UID:event1244@Congreso 2017
DTSTAMP:20260421T030609Z
CATEGORIES:Simposio: Usos y costumbres antropológicos en México: las relaci
 ones interculturales en el trabajo e
DESCRIPTION:Valor y costos del pago de “informantes”. Confesión y denuncia.
  \nCategoría: Simposio: Usos y costumbres antropológicos en México: las re
 laciones interculturales en el trabajo e\nEnlace: https://www.asociacionla
 tinoamericanadeantropologia.net/congreso2017/index.php?option=com_jem&view
 =event&id=1244:valor-y-costos-del-pago-de-informantes-confesion-y-denuncia
 \n
DTSTART:20170606T140000Z
DTEND:20170606T180000Z
LOCATION:Edificio: 02 Salón: 404\,Universidad Javeriana\,Bogotá\,Colombia
SUMMARY:Valor y costos del pago de “informantes”. Confesión y denuncia. 
URL:https://www.asociacionlatinoamericanadeantropologia.net/congreso2017/in
 dex.php?option=com_jem&view=event&id=1244:valor-y-costos-del-pago-de-infor
 mantes-confesion-y-denuncia
END:VEVENT
BEGIN:VEVENT
UID:event1245@Congreso 2017
DTSTAMP:20260421T030609Z
CATEGORIES:Simposio: Usos y costumbres antropológicos en México: las relaci
 ones interculturales en el trabajo e
DESCRIPTION:¿Pensamiento indígena o concepción académica? El billete de ida
  y vuelta de la comunalidad en Oaxaca.\nCategoría: Simposio: Usos y costum
 bres antropológicos en México: las relaciones interculturales en el trabaj
 o e\nEnlace: https://www.asociacionlatinoamericanadeantropologia.net/congr
 eso2017/index.php?option=com_jem&view=event&id=1245:pensamiento-indigena-o
 -concepcion-academica-el-billete-de-ida-y-vuelta-de-la-comunalidad-en-oaxa
 ca\n
DTSTART:20170606T140000Z
DTEND:20170606T180000Z
LOCATION:Edificio: 02 Salón: 404\,Universidad Javeriana\,Bogotá\,Colombia
SUMMARY:¿Pensamiento indígena o concepción académica? El billete de ida y v
 uelta de la comunalidad en Oaxaca.
URL:https://www.asociacionlatinoamericanadeantropologia.net/congreso2017/in
 dex.php?option=com_jem&view=event&id=1245:pensamiento-indigena-o-concepcio
 n-academica-el-billete-de-ida-y-vuelta-de-la-comunalidad-en-oaxaca
END:VEVENT
BEGIN:VEVENT
UID:event1246@Congreso 2017
DTSTAMP:20260421T030609Z
CATEGORIES:Simposio: Usos y costumbres antropológicos en México: las relaci
 ones interculturales en el trabajo e
DESCRIPTION:La antropología en tiempos de plagios: el caso de la blusa de T
 lahuitoltepec \nCategoría: Simposio: Usos y costumbres antropológicos en M
 éxico: las relaciones interculturales en el trabajo e\nEnlace: https://www
 .asociacionlatinoamericanadeantropologia.net/congreso2017/index.php?option
 =com_jem&view=event&id=1246:la-antropologia-en-tiempos-de-plagios-el-caso-
 de-la-blusa-de-tlahuitoltepec\n
DTSTART:20170606T140000Z
DTEND:20170606T180000Z
LOCATION:Edificio: 02 Salón: 404\,Universidad Javeriana\,Bogotá\,Colombia
SUMMARY:La antropología en tiempos de plagios: el caso de la blusa de Tlahu
 itoltepec 
URL:https://www.asociacionlatinoamericanadeantropologia.net/congreso2017/in
 dex.php?option=com_jem&view=event&id=1246:la-antropologia-en-tiempos-de-pl
 agios-el-caso-de-la-blusa-de-tlahuitoltepec
END:VEVENT
BEGIN:VEVENT
UID:event1247@Congreso 2017
DTSTAMP:20260421T030609Z
CATEGORIES:Simposio: Usos y costumbres antropológicos en México: las relaci
 ones interculturales en el trabajo e
DESCRIPTION:La “oniropráxis” como política de acción reguladora entre los w
 ixaritari y el Estado\nCategoría: Simposio: Usos y costumbres antropológic
 os en México: las relaciones interculturales en el trabajo e\nEnlace: http
 s://www.asociacionlatinoamericanadeantropologia.net/congreso2017/index.php
 ?option=com_jem&view=event&id=1247:la-oniropraxis-como-politica-de-accion-
 reguladora-entre-los-wixaritari-y-el-estado\n
DTSTART:20170606T140000Z
DTEND:20170606T180000Z
LOCATION:Edificio: 02 Salón: 404\,Universidad Javeriana\,Bogotá\,Colombia
SUMMARY:La “oniropráxis” como política de acción reguladora entre los wixar
 itari y el Estado
URL:https://www.asociacionlatinoamericanadeantropologia.net/congreso2017/in
 dex.php?option=com_jem&view=event&id=1247:la-oniropraxis-como-politica-de-
 accion-reguladora-entre-los-wixaritari-y-el-estado
END:VEVENT
END:VCALENDAR
