BEGIN:VCALENDAR
VERSION:2.0
PRODID:-//192.99.84.55//NONSGML kigkonsult.se iCalcreator 2.20//
CALSCALE:GREGORIAN
METHOD:PUBLISH
X-WR-TIMEZONE:UTC
BEGIN:VEVENT
UID:event1234@Congreso 2017
DTSTAMP:20260421T030602Z
CATEGORIES:Simposio: Sentidos y subjetividades en el trópico contemporáneo:
  revisitando sujetos etnográficos.
DESCRIPTION:Belleza\, Ciudad y Economía Política en Cali\, Colombia.  \nCat
 egoría: Simposio: Sentidos y subjetividades en el trópico contemporáneo: r
 evisitando sujetos etnográficos.\nEnlace: https://www.asociacionlatinoamer
 icanadeantropologia.net/congreso2017/index.php?option=com_jem&view=event&i
 d=1234:belleza-ciudad-y-economia-politica-en-cali-colombia\n
DTSTART:20170607T110000Z
DTEND:20170607T130000Z
LOCATION:Edificio: 67 Salón: 405\,Universidad Javeriana\,Bogotá\,Colombia
SUMMARY:Belleza\, Ciudad y Economía Política en Cali\, Colombia.  
URL:https://www.asociacionlatinoamericanadeantropologia.net/congreso2017/in
 dex.php?option=com_jem&view=event&id=1234:belleza-ciudad-y-economia-politi
 ca-en-cali-colombia
END:VEVENT
BEGIN:VEVENT
UID:event1235@Congreso 2017
DTSTAMP:20260421T030602Z
CATEGORIES:Simposio: Sentidos y subjetividades en el trópico contemporáneo:
  revisitando sujetos etnográficos.
DESCRIPTION:La representación de lo otro. Fotografía Etnográfica en Antioqu
 ia\, Colombia entre 1940 y 1960\nCategoría: Simposio: Sentidos y subjetivi
 dades en el trópico contemporáneo: revisitando sujetos etnográficos.\nEnla
 ce: https://www.asociacionlatinoamericanadeantropologia.net/congreso2017/i
 ndex.php?option=com_jem&view=event&id=1235:la-representacion-de-lo-otro-fo
 tografia-etnografica-en-antioquia-colombia-entre-1940-y-1960\n
DTSTART:20170607T110000Z
DTEND:20170607T130000Z
LOCATION:Edificio: 67 Salón: 405\,Universidad Javeriana\,Bogotá\,Colombia
SUMMARY:La representación de lo otro. Fotografía Etnográfica en Antioquia\,
  Colombia entre 1940 y 1960
URL:https://www.asociacionlatinoamericanadeantropologia.net/congreso2017/in
 dex.php?option=com_jem&view=event&id=1235:la-representacion-de-lo-otro-fot
 ografia-etnografica-en-antioquia-colombia-entre-1940-y-1960
END:VEVENT
BEGIN:VEVENT
UID:event1236@Congreso 2017
DTSTAMP:20260421T030602Z
CATEGORIES:Simposio: Sentidos y subjetividades en el trópico contemporáneo:
  revisitando sujetos etnográficos.
DESCRIPTION:Etnoarte\; las representaciones sociales en las imágenes \nCate
 goría: Simposio: Sentidos y subjetividades en el trópico contemporáneo: re
 visitando sujetos etnográficos.\nEnlace: https://www.asociacionlatinoameri
 canadeantropologia.net/congreso2017/index.php?option=com_jem&view=event&id
 =1236:etnoarte-las-representaciones-sociales-en-las-imagenes\n
DTSTART:20170607T110000Z
DTEND:20170607T130000Z
LOCATION:Edificio: 67 Salón: 405\,Universidad Javeriana\,Bogotá\,Colombia
SUMMARY:Etnoarte\; las representaciones sociales en las imágenes 
URL:https://www.asociacionlatinoamericanadeantropologia.net/congreso2017/in
 dex.php?option=com_jem&view=event&id=1236:etnoarte-las-representaciones-so
 ciales-en-las-imagenes
END:VEVENT
BEGIN:VEVENT
UID:event1237@Congreso 2017
DTSTAMP:20260421T030602Z
CATEGORIES:Simposio: Sentidos y subjetividades en el trópico contemporáneo:
  revisitando sujetos etnográficos.
DESCRIPTION:Conociendo al otro siendo el otro: reflexiones de dos miradas “
 tropicales” en Porto Alegre\, a través de la comida y el cabello\nCategorí
 a: Simposio: Sentidos y subjetividades en el trópico contemporáneo: revisi
 tando sujetos etnográficos.\nEnlace: https://www.asociacionlatinoamericana
 deantropologia.net/congreso2017/index.php?option=com_jem&view=event&id=123
 7:conociendo-al-otro-siendo-el-otro-reflexiones-de-dos-miradas-tropicales-
 en-porto-alegre-a-traves-de-la-comida-y-el-cabello\n
DTSTART:20170607T110000Z
DTEND:20170607T130000Z
LOCATION:Edificio: 67 Salón: 405\,Universidad Javeriana\,Bogotá\,Colombia
SUMMARY:Conociendo al otro siendo el otro: reflexiones de dos miradas “trop
 icales” en Porto Alegre\, a través de la comida y el cabello
URL:https://www.asociacionlatinoamericanadeantropologia.net/congreso2017/in
 dex.php?option=com_jem&view=event&id=1237:conociendo-al-otro-siendo-el-otr
 o-reflexiones-de-dos-miradas-tropicales-en-porto-alegre-a-traves-de-la-com
 ida-y-el-cabello
END:VEVENT
BEGIN:VEVENT
UID:event1238@Congreso 2017
DTSTAMP:20260421T030602Z
CATEGORIES:Simposio: Sentidos y subjetividades en el trópico contemporáneo:
  revisitando sujetos etnográficos.
DESCRIPTION:Sorteando los enviones del mar. Incertidumbre\, movimiento y cr
 eación \nCategoría: Simposio: Sentidos y subjetividades en el trópico cont
 emporáneo: revisitando sujetos etnográficos.\nEnlace: https://www.asociaci
 onlatinoamericanadeantropologia.net/congreso2017/index.php?option=com_jem&
 view=event&id=1238:sorteando-los-enviones-del-mar-incertidumbre-movimiento
 -y-creacion\n
DTSTART:20170607T140000Z
DTEND:20170607T160000Z
LOCATION:Edificio: 67 Salón: 405\,Universidad Javeriana\,Bogotá\,Colombia
SUMMARY:Sorteando los enviones del mar. Incertidumbre\, movimiento y creaci
 ón 
URL:https://www.asociacionlatinoamericanadeantropologia.net/congreso2017/in
 dex.php?option=com_jem&view=event&id=1238:sorteando-los-enviones-del-mar-i
 ncertidumbre-movimiento-y-creacion
END:VEVENT
BEGIN:VEVENT
UID:event1239@Congreso 2017
DTSTAMP:20260421T030602Z
CATEGORIES:Simposio: Sentidos y subjetividades en el trópico contemporáneo:
  revisitando sujetos etnográficos.
DESCRIPTION:“La experiencia de trabajo de campo sobre la espiritualidad And
 ina en Madrid/España: la celebración del Inti Raymi / Wilkakuti (Fiesta de
 l sol) \nCategoría: Simposio: Sentidos y subjetividades en el trópico cont
 emporáneo: revisitando sujetos etnográficos.\nEnlace: https://www.asociaci
 onlatinoamericanadeantropologia.net/congreso2017/index.php?option=com_jem&
 view=event&id=1239:la-experiencia-de-trabajo-de-campo-sobre-la-espirituali
 dad-andina-en-madrid-espana-la-celebracion-del-inti-raymi-wilkakuti-fiesta
 -del-sol\n
DTSTART:20170607T140000Z
DTEND:20170607T160000Z
LOCATION:Edificio: 67 Salón: 405\,Universidad Javeriana\,Bogotá\,Colombia
SUMMARY:“La experiencia de trabajo de campo sobre la espiritualidad Andina 
 en Madrid/España: la celebración del Inti Raymi / Wilkakuti (Fiesta del so
 l) 
URL:https://www.asociacionlatinoamericanadeantropologia.net/congreso2017/in
 dex.php?option=com_jem&view=event&id=1239:la-experiencia-de-trabajo-de-cam
 po-sobre-la-espiritualidad-andina-en-madrid-espana-la-celebracion-del-inti
 -raymi-wilkakuti-fiesta-del-sol
END:VEVENT
BEGIN:VEVENT
UID:event1240@Congreso 2017
DTSTAMP:20260421T030602Z
CATEGORIES:Simposio: Sentidos y subjetividades en el trópico contemporáneo:
  revisitando sujetos etnográficos.
DESCRIPTION:Un etnomusicólogo no-indigena  en 'escucha' con los Emberá Cham
 í. \nCategoría: Simposio: Sentidos y subjetividades en el trópico contempo
 ráneo: revisitando sujetos etnográficos.\nEnlace: https://www.asociacionla
 tinoamericanadeantropologia.net/congreso2017/index.php?option=com_jem&view
 =event&id=1240:un-etnomusicologo-no-indigena-en-escucha-con-los-embera-cha
 mi\n
DTSTART:20170607T160000Z
DTEND:20170607T180000Z
LOCATION:Edificio: 67 Salón: 405\,Universidad Javeriana\,Bogotá\,Colombia
SUMMARY:Un etnomusicólogo no-indigena  en 'escucha' con los Emberá Chamí. 
URL:https://www.asociacionlatinoamericanadeantropologia.net/congreso2017/in
 dex.php?option=com_jem&view=event&id=1240:un-etnomusicologo-no-indigena-en
 -escucha-con-los-embera-chami
END:VEVENT
BEGIN:VEVENT
UID:event1241@Congreso 2017
DTSTAMP:20260421T030602Z
CATEGORIES:Simposio: Sentidos y subjetividades en el trópico contemporáneo:
  revisitando sujetos etnográficos.
DESCRIPTION:Escuchando el pasado\, mapeando el presente: archivos sonoros y
  nuevos repertorios etnográficos sobre la Feria de Cali. \nCategoría: Simp
 osio: Sentidos y subjetividades en el trópico contemporáneo: revisitando s
 ujetos etnográficos.\nEnlace: https://www.asociacionlatinoamericanadeantro
 pologia.net/congreso2017/index.php?option=com_jem&view=event&id=1241:escuc
 hando-el-pasado-mapeando-el-presente-archivos-sonoros-y-nuevos-repertorios
 -etnograficos-sobre-la-feria-de-cali\n
DTSTART:20170607T160000Z
DTEND:20170607T180000Z
LOCATION:Edificio: 67 Salón: 405\,Universidad Javeriana\,Bogotá\,Colombia
SUMMARY:Escuchando el pasado\, mapeando el presente: archivos sonoros y nue
 vos repertorios etnográficos sobre la Feria de Cali. 
URL:https://www.asociacionlatinoamericanadeantropologia.net/congreso2017/in
 dex.php?option=com_jem&view=event&id=1241:escuchando-el-pasado-mapeando-el
 -presente-archivos-sonoros-y-nuevos-repertorios-etnograficos-sobre-la-feri
 a-de-cali
END:VEVENT
BEGIN:VEVENT
UID:event1242@Congreso 2017
DTSTAMP:20260421T030602Z
CATEGORIES:Simposio: Sentidos y subjetividades en el trópico contemporáneo:
  revisitando sujetos etnográficos.
DESCRIPTION:Prácticas musicales afrodiaspóricas y órdenes morales en Colomb
 ia contemporánea \nCategoría: Simposio: Sentidos y subjetividades en el tr
 ópico contemporáneo: revisitando sujetos etnográficos.\nEnlace: https://ww
 w.asociacionlatinoamericanadeantropologia.net/congreso2017/index.php?optio
 n=com_jem&view=event&id=1242:practicas-musicales-afrodiasporicas-y-ordenes
 -morales-en-colombia-contemporanea\n
DTSTART:20170607T160000Z
DTEND:20170607T180000Z
LOCATION:Edificio: 67 Salón: 405\,Universidad Javeriana\,Bogotá\,Colombia
SUMMARY:Prácticas musicales afrodiaspóricas y órdenes morales en Colombia c
 ontemporánea 
URL:https://www.asociacionlatinoamericanadeantropologia.net/congreso2017/in
 dex.php?option=com_jem&view=event&id=1242:practicas-musicales-afrodiaspori
 cas-y-ordenes-morales-en-colombia-contemporanea
END:VEVENT
END:VCALENDAR
