BEGIN:VCALENDAR
VERSION:2.0
PRODID:-//192.99.84.55//NONSGML kigkonsult.se iCalcreator 2.20//
CALSCALE:GREGORIAN
METHOD:PUBLISH
X-WR-TIMEZONE:UTC
BEGIN:VEVENT
UID:event1224@Congreso 2017
DTSTAMP:20260421T030436Z
CATEGORIES:Simposio: La infancia en la construcción social y cultural: el c
 uidado institucional del niño y la n
DESCRIPTION:Cuerpo\, cuidados y afectos en un espacio profesional con front
 eras vagas. El ejemplo de una casa cuna en México \nCategoría: Simposio: L
 a infancia en la construcción social y cultural: el cuidado institucional 
 del niño y la n\nEnlace: https://www.asociacionlatinoamericanadeantropolog
 ia.net/congreso2017/index.php?option=com_jem&view=event&id=1224:cuerpo-cui
 dados-y-afectos-en-un-espacio-profesional-con-fronteras-vagas-el-ejemplo-d
 e-una-casa-cuna-en-mexico\n
DTSTART:20170608T090000Z
DTEND:20170608T110000Z
LOCATION:Edificio: 02 Salón: 206\,Universidad Javeriana\,Bogotá\,Colombia
SUMMARY:Cuerpo\, cuidados y afectos en un espacio profesional con fronteras
  vagas. El ejemplo de una casa cuna en México 
URL:https://www.asociacionlatinoamericanadeantropologia.net/congreso2017/in
 dex.php?option=com_jem&view=event&id=1224:cuerpo-cuidados-y-afectos-en-un-
 espacio-profesional-con-fronteras-vagas-el-ejemplo-de-una-casa-cuna-en-mex
 ico
END:VEVENT
BEGIN:VEVENT
UID:event1225@Congreso 2017
DTSTAMP:20260421T030436Z
CATEGORIES:Simposio: La infancia en la construcción social y cultural: el c
 uidado institucional del niño y la n
DESCRIPTION:La integralidad en la noción y prácticas de cuidado entre los p
 amiwa (cubeo) \nCategoría: Simposio: La infancia en la construcción social
  y cultural: el cuidado institucional del niño y la n\nEnlace: https://www
 .asociacionlatinoamericanadeantropologia.net/congreso2017/index.php?option
 =com_jem&view=event&id=1225:la-integralidad-en-la-nocion-y-practicas-de-cu
 idado-entre-los-pamiwa-cubeo\n
DTSTART:20170608T090000Z
DTEND:20170608T110000Z
LOCATION:Edificio: 02 Salón: 206\,Universidad Javeriana\,Bogotá\,Colombia
SUMMARY:La integralidad en la noción y prácticas de cuidado entre los pamiw
 a (cubeo) 
URL:https://www.asociacionlatinoamericanadeantropologia.net/congreso2017/in
 dex.php?option=com_jem&view=event&id=1225:la-integralidad-en-la-nocion-y-p
 racticas-de-cuidado-entre-los-pamiwa-cubeo
END:VEVENT
BEGIN:VEVENT
UID:event1226@Congreso 2017
DTSTAMP:20260421T030436Z
CATEGORIES:Simposio: La infancia en la construcción social y cultural: el c
 uidado institucional del niño y la n
DESCRIPTION:La agencia infantil en cuatro pueblos indígenas de la Amazonía 
 peruana \nCategoría: Simposio: La infancia en la construcción social y cul
 tural: el cuidado institucional del niño y la n\nEnlace: https://www.asoci
 acionlatinoamericanadeantropologia.net/congreso2017/index.php?option=com_j
 em&view=event&id=1226:la-agencia-infantil-en-cuatro-pueblos-indigenas-de-l
 a-amazonia-peruana\n
DTSTART:20170608T090000Z
DTEND:20170608T110000Z
LOCATION:Edificio: 02 Salón: 206\,Universidad Javeriana\,Bogotá\,Colombia
SUMMARY:La agencia infantil en cuatro pueblos indígenas de la Amazonía peru
 ana 
URL:https://www.asociacionlatinoamericanadeantropologia.net/congreso2017/in
 dex.php?option=com_jem&view=event&id=1226:la-agencia-infantil-en-cuatro-pu
 eblos-indigenas-de-la-amazonia-peruana
END:VEVENT
BEGIN:VEVENT
UID:event1227@Congreso 2017
DTSTAMP:20260421T030436Z
CATEGORIES:Simposio: La infancia en la construcción social y cultural: el c
 uidado institucional del niño y la n
DESCRIPTION:Interés superior y agency del niño a prueba del “buen cuidado” 
 en la ayuda internacional (ejemplos de América latina y África) \nCategorí
 a: Simposio: La infancia en la construcción social y cultural: el cuidado 
 institucional del niño y la n\nEnlace: https://www.asociacionlatinoamerica
 nadeantropologia.net/congreso2017/index.php?option=com_jem&view=event&id=1
 227:interes-superior-y-agency-del-nino-a-prueba-del-buen-cuidado-en-la-ayu
 da-internacional-ejemplos-de-america-latina-y-africa\n
DTSTART:20170608T110000Z
DTEND:20170608T130000Z
LOCATION:Edificio: 02 Salón: 206\,Universidad Javeriana\,Bogotá\,Colombia
SUMMARY:Interés superior y agency del niño a prueba del “buen cuidado” en l
 a ayuda internacional (ejemplos de América latina y África) 
URL:https://www.asociacionlatinoamericanadeantropologia.net/congreso2017/in
 dex.php?option=com_jem&view=event&id=1227:interes-superior-y-agency-del-ni
 no-a-prueba-del-buen-cuidado-en-la-ayuda-internacional-ejemplos-de-america
 -latina-y-africa
END:VEVENT
BEGIN:VEVENT
UID:event1228@Congreso 2017
DTSTAMP:20260421T030436Z
CATEGORIES:Simposio: La infancia en la construcción social y cultural: el c
 uidado institucional del niño y la n
DESCRIPTION:El estatus social de la palabra del niño y la agencia infantil:
  análisis a partir de una etnografía en los hogares comunitarios de bienes
 tar (Bogotá\, Colombia) \nCategoría: Simposio: La infancia en la construcc
 ión social y cultural: el cuidado institucional del niño y la n\nEnlace: h
 ttps://www.asociacionlatinoamericanadeantropologia.net/congreso2017/index.
 php?option=com_jem&view=event&id=1228:el-estatus-social-de-la-palabra-del-
 nino-y-la-agencia-infantil-analisis-a-partir-de-una-etnografia-en-los-hoga
 res-comunitarios-de-bienestar-bogota-colombia\n
DTSTART:20170608T110000Z
DTEND:20170608T130000Z
LOCATION:Edificio: 02 Salón: 206\,Universidad Javeriana\,Bogotá\,Colombia
SUMMARY:El estatus social de la palabra del niño y la agencia infantil: aná
 lisis a partir de una etnografía en los hogares comunitarios de bienestar 
 (Bogotá\, Colombia) 
URL:https://www.asociacionlatinoamericanadeantropologia.net/congreso2017/in
 dex.php?option=com_jem&view=event&id=1228:el-estatus-social-de-la-palabra-
 del-nino-y-la-agencia-infantil-analisis-a-partir-de-una-etnografia-en-los-
 hogares-comunitarios-de-bienestar-bogota-colombia
END:VEVENT
BEGIN:VEVENT
UID:event1229@Congreso 2017
DTSTAMP:20260421T030436Z
CATEGORIES:Simposio: La infancia en la construcción social y cultural: el c
 uidado institucional del niño y la n
DESCRIPTION:“¡Estamos presas\, pero queremos vivir dignamente!” Organizació
 n del cuidado infantil entre madres internas en un establecimiento peniten
 ciario de Lima. \nCategoría: Simposio: La infancia en la construcción soci
 al y cultural: el cuidado institucional del niño y la n\nEnlace: https://w
 ww.asociacionlatinoamericanadeantropologia.net/congreso2017/index.php?opti
 on=com_jem&view=event&id=1229:estamos-presas-pero-queremos-vivir-dignament
 e-organizacion-del-cuidado-infantil-entre-madres-internas-en-un-establecim
 iento-penitenciario-de-lima\n
DTSTART:20170608T110000Z
DTEND:20170608T130000Z
LOCATION:Edificio: 02 Salón: 206\,Universidad Javeriana\,Bogotá\,Colombia
SUMMARY:“¡Estamos presas\, pero queremos vivir dignamente!” Organización de
 l cuidado infantil entre madres internas en un establecimiento penitenciar
 io de Lima. 
URL:https://www.asociacionlatinoamericanadeantropologia.net/congreso2017/in
 dex.php?option=com_jem&view=event&id=1229:estamos-presas-pero-queremos-viv
 ir-dignamente-organizacion-del-cuidado-infantil-entre-madres-internas-en-u
 n-establecimiento-penitenciario-de-lima
END:VEVENT
BEGIN:VEVENT
UID:event1230@Congreso 2017
DTSTAMP:20260421T030436Z
CATEGORIES:Simposio: La infancia en la construcción social y cultural: el c
 uidado institucional del niño y la n
DESCRIPTION:El cuidado de la infancia y la problemática de la violencia con
 tra los niños y niñas: búsquedas y apropiaciones en una sociedad posconfli
 cto \nCategoría: Simposio: La infancia en la construcción social y cultura
 l: el cuidado institucional del niño y la n\nEnlace: https://www.asociacio
 nlatinoamericanadeantropologia.net/congreso2017/index.php?option=com_jem&v
 iew=event&id=1230:el-cuidado-de-la-infancia-y-la-problematica-de-la-violen
 cia-contra-los-ninos-y-ninas-busquedas-y-apropiaciones-en-una-sociedad-pos
 conflicto\n
DTSTART:20170608T110000Z
DTEND:20170608T130000Z
LOCATION:Edificio: 02 Salón: 206\,Universidad Javeriana\,Bogotá\,Colombia
SUMMARY:El cuidado de la infancia y la problemática de la violencia contra 
 los niños y niñas: búsquedas y apropiaciones en una sociedad posconflicto 
URL:https://www.asociacionlatinoamericanadeantropologia.net/congreso2017/in
 dex.php?option=com_jem&view=event&id=1230:el-cuidado-de-la-infancia-y-la-p
 roblematica-de-la-violencia-contra-los-ninos-y-ninas-busquedas-y-apropiaci
 ones-en-una-sociedad-posconflicto
END:VEVENT
BEGIN:VEVENT
UID:event1231@Congreso 2017
DTSTAMP:20260421T030436Z
CATEGORIES:Simposio: La infancia en la construcción social y cultural: el c
 uidado institucional del niño y la n
DESCRIPTION:Los/as niños/as al Consejo: procesos de formación democrática y
  ciudadana en una escuela primaria de la Ciudad Autónoma de Buenos Aires\n
 Categoría: Simposio: La infancia en la construcción social y cultural: el 
 cuidado institucional del niño y la n\nEnlace: https://www.asociacionlatin
 oamericanadeantropologia.net/congreso2017/index.php?option=com_jem&view=ev
 ent&id=1231:los-as-ninos-as-al-consejo-procesos-de-formacion-democratica-y
 -ciudadana-en-una-escuela-primaria-de-la-ciudad-autonoma-de-buenos-aires\n
DTSTART:20170608T140000Z
DTEND:20170608T160000Z
LOCATION:Edificio: 02 Salón: 206\,Universidad Javeriana\,Bogotá\,Colombia
SUMMARY:Los/as niños/as al Consejo: procesos de formación democrática y ciu
 dadana en una escuela primaria de la Ciudad Autónoma de Buenos Aires
URL:https://www.asociacionlatinoamericanadeantropologia.net/congreso2017/in
 dex.php?option=com_jem&view=event&id=1231:los-as-ninos-as-al-consejo-proce
 sos-de-formacion-democratica-y-ciudadana-en-una-escuela-primaria-de-la-ciu
 dad-autonoma-de-buenos-aires
END:VEVENT
BEGIN:VEVENT
UID:event1232@Congreso 2017
DTSTAMP:20260421T030436Z
CATEGORIES:Simposio: La infancia en la construcción social y cultural: el c
 uidado institucional del niño y la n
DESCRIPTION:Experiências das mulheres cuidadoras de crianças com a síndrome
  congênita do zika e suas articulações e desarticulações com o estado \nCa
 tegoría: Simposio: La infancia en la construcción social y cultural: el cu
 idado institucional del niño y la n\nEnlace: https://www.asociacionlatinoa
 mericanadeantropologia.net/congreso2017/index.php?option=com_jem&view=even
 t&id=1232:experiencias-das-mulheres-cuidadoras-de-criancas-com-a-sindrome-
 congenita-do-zika-e-suas-articulacoes-e-desarticulacoes-com-o-estado\n
DTSTART:20170608T140000Z
DTEND:20170608T160000Z
LOCATION:Edificio: 02 Salón: 206\,Universidad Javeriana\,Bogotá\,Colombia
SUMMARY:Experiências das mulheres cuidadoras de crianças com a síndrome con
 gênita do zika e suas articulações e desarticulações com o estado 
URL:https://www.asociacionlatinoamericanadeantropologia.net/congreso2017/in
 dex.php?option=com_jem&view=event&id=1232:experiencias-das-mulheres-cuidad
 oras-de-criancas-com-a-sindrome-congenita-do-zika-e-suas-articulacoes-e-de
 sarticulacoes-com-o-estado
END:VEVENT
BEGIN:VEVENT
UID:event1233@Congreso 2017
DTSTAMP:20260421T030436Z
CATEGORIES:Simposio: La infancia en la construcción social y cultural: el c
 uidado institucional del niño y la n
DESCRIPTION:Niños cuidando a otros niños. Estudio de caso sobre estrategias
  de cuidado de niños y niñas en un asentamiento periurbano de Lima.\nCateg
 oría: Simposio: La infancia en la construcción social y cultural: el cuida
 do institucional del niño y la n\nEnlace: https://www.asociacionlatinoamer
 icanadeantropologia.net/congreso2017/index.php?option=com_jem&view=event&i
 d=1233:ninos-cuidando-a-otros-ninos-estudio-de-caso-sobre-estrategias-de-c
 uidado-de-ninos-y-ninas-en-un-asentamiento-periurbano-de-lima\n
DTSTART:20170608T140000Z
DTEND:20170608T160000Z
LOCATION:Edificio: 02 Salón: 206\,Universidad Javeriana\,Bogotá\,Colombia
SUMMARY:Niños cuidando a otros niños. Estudio de caso sobre estrategias de 
 cuidado de niños y niñas en un asentamiento periurbano de Lima.
URL:https://www.asociacionlatinoamericanadeantropologia.net/congreso2017/in
 dex.php?option=com_jem&view=event&id=1233:ninos-cuidando-a-otros-ninos-est
 udio-de-caso-sobre-estrategias-de-cuidado-de-ninos-y-ninas-en-un-asentamie
 nto-periurbano-de-lima
END:VEVENT
END:VCALENDAR
