BEGIN:VCALENDAR
VERSION:2.0
PRODID:-//192.99.84.55//NONSGML kigkonsult.se iCalcreator 2.20//
CALSCALE:GREGORIAN
METHOD:PUBLISH
X-WR-TIMEZONE:UTC
BEGIN:VEVENT
UID:event1212@Congreso 2017
DTSTAMP:20260421T030440Z
CATEGORIES:Simposio: Juventudes en América Latina: contextos\, diversidades
  y perspectivas de análisis emergente
DESCRIPTION:Violencia de género y diversidad juvenil en espacios universita
 rios de San Luis Potosí\, México  \nCategoría: Simposio: Juventudes en Amé
 rica Latina: contextos\, diversidades y perspectivas de análisis emergente
 \nEnlace: https://www.asociacionlatinoamericanadeantropologia.net/congreso
 2017/index.php?option=com_jem&view=event&id=1212:violencia-de-genero-y-div
 ersidad-juvenil-en-espacios-universitarios-de-san-luis-potosi-mexico\n
DTSTART:20170608T090000Z
DTEND:20170608T110000Z
LOCATION:Edificio: 02 Salón: 002\,Universidad Javeriana\,Bogotá\,Colombia
SUMMARY:Violencia de género y diversidad juvenil en espacios universitarios
  de San Luis Potosí\, México  
URL:https://www.asociacionlatinoamericanadeantropologia.net/congreso2017/in
 dex.php?option=com_jem&view=event&id=1212:violencia-de-genero-y-diversidad
 -juvenil-en-espacios-universitarios-de-san-luis-potosi-mexico
END:VEVENT
BEGIN:VEVENT
UID:event1213@Congreso 2017
DTSTAMP:20260421T030440Z
CATEGORIES:Simposio: Juventudes en América Latina: contextos\, diversidades
  y perspectivas de análisis emergente
DESCRIPTION:El graffiti como generador de capital social. Una mirada al gra
 ffiti religioso creado por jóvenes en colonias populares en la ciudad de  
 San Luis  Potosí\, México. \nCategoría: Simposio: Juventudes en América La
 tina: contextos\, diversidades y perspectivas de análisis emergente\nEnlac
 e: https://www.asociacionlatinoamericanadeantropologia.net/congreso2017/in
 dex.php?option=com_jem&view=event&id=1213:el-graffiti-como-generador-de-ca
 pital-social-una-mirada-al-graffiti-religioso-creado-por-jovenes-en-coloni
 as-populares-en-la-ciudad-de-san-luis-potosi-mexico\n
DTSTART:20170608T090000Z
DTEND:20170608T110000Z
LOCATION:Edificio: 02 Salón: 002\,Universidad Javeriana\,Bogotá\,Colombia
SUMMARY:El graffiti como generador de capital social. Una mirada al graffit
 i religioso creado por jóvenes en colonias populares en la ciudad de  San 
 Luis  Potosí\, México. 
URL:https://www.asociacionlatinoamericanadeantropologia.net/congreso2017/in
 dex.php?option=com_jem&view=event&id=1213:el-graffiti-como-generador-de-ca
 pital-social-una-mirada-al-graffiti-religioso-creado-por-jovenes-en-coloni
 as-populares-en-la-ciudad-de-san-luis-potosi-mexico
END:VEVENT
BEGIN:VEVENT
UID:event1214@Congreso 2017
DTSTAMP:20260421T030440Z
CATEGORIES:Simposio: Juventudes en América Latina: contextos\, diversidades
  y perspectivas de análisis emergente
DESCRIPTION:La construcción de trayectorias educativas en jóvenes rurales e
  indígenas en el Estado de San Luis Potosí\, México. \nCategoría: Simposio
 : Juventudes en América Latina: contextos\, diversidades y perspectivas de
  análisis emergente\nEnlace: https://www.asociacionlatinoamericanadeantrop
 ologia.net/congreso2017/index.php?option=com_jem&view=event&id=1214:la-con
 struccion-de-trayectorias-educativas-en-jovenes-rurales-e-indigenas-en-el-
 estado-de-san-luis-potosi-mexico\n
DTSTART:20170608T090000Z
DTEND:20170608T110000Z
LOCATION:Edificio: 02 Salón: 002\,Universidad Javeriana\,Bogotá\,Colombia
SUMMARY:La construcción de trayectorias educativas en jóvenes rurales e ind
 ígenas en el Estado de San Luis Potosí\, México. 
URL:https://www.asociacionlatinoamericanadeantropologia.net/congreso2017/in
 dex.php?option=com_jem&view=event&id=1214:la-construccion-de-trayectorias-
 educativas-en-jovenes-rurales-e-indigenas-en-el-estado-de-san-luis-potosi-
 mexico
END:VEVENT
BEGIN:VEVENT
UID:event1215@Congreso 2017
DTSTAMP:20260421T030440Z
CATEGORIES:Simposio: Juventudes en América Latina: contextos\, diversidades
  y perspectivas de análisis emergente
DESCRIPTION:Jóvenes rockeros tsotsiles. Habitando lo rural y lo urbano \nCa
 tegoría: Simposio: Juventudes en América Latina: contextos\, diversidades 
 y perspectivas de análisis emergente\nEnlace: https://www.asociacionlatino
 americanadeantropologia.net/congreso2017/index.php?option=com_jem&view=eve
 nt&id=1215:jovenes-rockeros-tsotsiles-habitando-lo-rural-y-lo-urbano\n
DTSTART:20170608T090000Z
DTEND:20170608T110000Z
LOCATION:Edificio: 02 Salón: 002\,Universidad Javeriana\,Bogotá\,Colombia
SUMMARY:Jóvenes rockeros tsotsiles. Habitando lo rural y lo urbano 
URL:https://www.asociacionlatinoamericanadeantropologia.net/congreso2017/in
 dex.php?option=com_jem&view=event&id=1215:jovenes-rockeros-tsotsiles-habit
 ando-lo-rural-y-lo-urbano
END:VEVENT
BEGIN:VEVENT
UID:event1216@Congreso 2017
DTSTAMP:20260421T030440Z
CATEGORIES:Simposio: Juventudes en América Latina: contextos\, diversidades
  y perspectivas de análisis emergente
DESCRIPTION:Trayectorias adolescentes en el género y la sexualidad. Deus ex
  machina ¿Guiones con desenlace o finales abiertos?  \nCategoría: Simposio
 : Juventudes en América Latina: contextos\, diversidades y perspectivas de
  análisis emergente\nEnlace: https://www.asociacionlatinoamericanadeantrop
 ologia.net/congreso2017/index.php?option=com_jem&view=event&id=1216:trayec
 torias-adolescentes-en-el-genero-y-la-sexualidad-deus-ex-machina-guiones-c
 on-desenlace-o-finales-abiertos\n
DTSTART:20170608T110000Z
DTEND:20170608T130000Z
LOCATION:Edificio: 02 Salón: 002\,Universidad Javeriana\,Bogotá\,Colombia
SUMMARY:Trayectorias adolescentes en el género y la sexualidad. Deus ex mac
 hina ¿Guiones con desenlace o finales abiertos?  
URL:https://www.asociacionlatinoamericanadeantropologia.net/congreso2017/in
 dex.php?option=com_jem&view=event&id=1216:trayectorias-adolescentes-en-el-
 genero-y-la-sexualidad-deus-ex-machina-guiones-con-desenlace-o-finales-abi
 ertos
END:VEVENT
BEGIN:VEVENT
UID:event1217@Congreso 2017
DTSTAMP:20260421T030440Z
CATEGORIES:Simposio: Juventudes en América Latina: contextos\, diversidades
  y perspectivas de análisis emergente
DESCRIPTION:Caminar sin mirar atrás y tampoco ver hacia adelante: cómo expe
 rimentan el tiempo jóvenes estudiantes de carreras técnicas en Bogotá\, Co
 lombia.  \nCategoría: Simposio: Juventudes en América Latina: contextos\, 
 diversidades y perspectivas de análisis emergente\nEnlace: https://www.aso
 ciacionlatinoamericanadeantropologia.net/congreso2017/index.php?option=com
 _jem&view=event&id=1217:caminar-sin-mirar-atras-y-tampoco-ver-hacia-adelan
 te-como-experimentan-el-tiempo-jovenes-estudiantes-de-carreras-tecnicas-en
 -bogota-colombia\n
DTSTART:20170608T110000Z
DTEND:20170608T130000Z
LOCATION:Edificio: 02 Salón: 002\,Universidad Javeriana\,Bogotá\,Colombia
SUMMARY:Caminar sin mirar atrás y tampoco ver hacia adelante: cómo experime
 ntan el tiempo jóvenes estudiantes de carreras técnicas en Bogotá\, Colomb
 ia.  
URL:https://www.asociacionlatinoamericanadeantropologia.net/congreso2017/in
 dex.php?option=com_jem&view=event&id=1217:caminar-sin-mirar-atras-y-tampoc
 o-ver-hacia-adelante-como-experimentan-el-tiempo-jovenes-estudiantes-de-ca
 rreras-tecnicas-en-bogota-colombia
END:VEVENT
BEGIN:VEVENT
UID:event1218@Congreso 2017
DTSTAMP:20260421T030440Z
CATEGORIES:Simposio: Juventudes en América Latina: contextos\, diversidades
  y perspectivas de análisis emergente
DESCRIPTION:'Más que alaracos': Un análisis de las percepciones sobre y de 
 la juventud de Barrios Altos (Lima- Perú)\nCategoría: Simposio: Juventudes
  en América Latina: contextos\, diversidades y perspectivas de análisis em
 ergente\nEnlace: https://www.asociacionlatinoamericanadeantropologia.net/c
 ongreso2017/index.php?option=com_jem&view=event&id=1218:mas-que-alaracos-u
 n-analisis-de-las-percepciones-sobre-y-de-la-juventud-de-barrios-altos-lim
 a-peru\n
DTSTART:20170608T110000Z
DTEND:20170608T130000Z
LOCATION:Edificio: 02 Salón: 002\,Universidad Javeriana\,Bogotá\,Colombia
SUMMARY:'Más que alaracos': Un análisis de las percepciones sobre y de la j
 uventud de Barrios Altos (Lima- Perú)
URL:https://www.asociacionlatinoamericanadeantropologia.net/congreso2017/in
 dex.php?option=com_jem&view=event&id=1218:mas-que-alaracos-un-analisis-de-
 las-percepciones-sobre-y-de-la-juventud-de-barrios-altos-lima-peru
END:VEVENT
BEGIN:VEVENT
UID:event1219@Congreso 2017
DTSTAMP:20260421T030440Z
CATEGORIES:Simposio: Juventudes en América Latina: contextos\, diversidades
  y perspectivas de análisis emergente
DESCRIPTION:Sexualidade\, gênero e juventude: uma etnografia sobre a desest
 abilização das categorias de identidade e o lugar da diferença entre joven
 s de uma escola pública do Rio de Janeiro\nCategoría: Simposio: Juventudes
  en América Latina: contextos\, diversidades y perspectivas de análisis em
 ergente\nEnlace: https://www.asociacionlatinoamericanadeantropologia.net/c
 ongreso2017/index.php?option=com_jem&view=event&id=1219:sexualidade-genero
 -e-juventude-uma-etnografia-sobre-a-desestabilizacao-das-categorias-de-ide
 ntidade-e-o-lugar-da-diferenca-entre-jovens-de-uma-escola-publica-do-rio-d
 e-janeiro\n
DTSTART:20170608T110000Z
DTEND:20170608T130000Z
LOCATION:Edificio: 02 Salón: 002\,Universidad Javeriana\,Bogotá\,Colombia
SUMMARY:Sexualidade\, gênero e juventude: uma etnografia sobre a desestabil
 ização das categorias de identidade e o lugar da diferença entre jovens de
  uma escola pública do Rio de Janeiro
URL:https://www.asociacionlatinoamericanadeantropologia.net/congreso2017/in
 dex.php?option=com_jem&view=event&id=1219:sexualidade-genero-e-juventude-u
 ma-etnografia-sobre-a-desestabilizacao-das-categorias-de-identidade-e-o-lu
 gar-da-diferenca-entre-jovens-de-uma-escola-publica-do-rio-de-janeiro
END:VEVENT
BEGIN:VEVENT
UID:event1220@Congreso 2017
DTSTAMP:20260421T030440Z
CATEGORIES:Simposio: Juventudes en América Latina: contextos\, diversidades
  y perspectivas de análisis emergente
DESCRIPTION:Una experiencia de etnografía audiovisual en la escena del  roc
 k punk  de Metepec\, Estado de México. \nCategoría: Simposio: Juventudes e
 n América Latina: contextos\, diversidades y perspectivas de análisis emer
 gente\nEnlace: https://www.asociacionlatinoamericanadeantropologia.net/con
 greso2017/index.php?option=com_jem&view=event&id=1220:una-experiencia-de-e
 tnografia-audiovisual-en-la-escena-del-rock-punk-de-metepec-estado-de-mexi
 co\n
DTSTART:20170608T140000Z
DTEND:20170608T160000Z
LOCATION:Edificio: 02 Salón: 002\,Universidad Javeriana\,Bogotá\,Colombia
SUMMARY:Una experiencia de etnografía audiovisual en la escena del  rock pu
 nk  de Metepec\, Estado de México. 
URL:https://www.asociacionlatinoamericanadeantropologia.net/congreso2017/in
 dex.php?option=com_jem&view=event&id=1220:una-experiencia-de-etnografia-au
 diovisual-en-la-escena-del-rock-punk-de-metepec-estado-de-mexico
END:VEVENT
BEGIN:VEVENT
UID:event1221@Congreso 2017
DTSTAMP:20260421T030440Z
CATEGORIES:Simposio: Juventudes en América Latina: contextos\, diversidades
  y perspectivas de análisis emergente
DESCRIPTION:Mutaciones de lo visible. Prácticas e identidades virtuales ent
 re los jóvenes \nCategoría: Simposio: Juventudes en América Latina: contex
 tos\, diversidades y perspectivas de análisis emergente\nEnlace: https://w
 ww.asociacionlatinoamericanadeantropologia.net/congreso2017/index.php?opti
 on=com_jem&view=event&id=1221:mutaciones-de-lo-visible-practicas-e-identid
 ades-virtuales-entre-los-jovenes\n
DTSTART:20170608T140000Z
DTEND:20170608T160000Z
LOCATION:Edificio: 02 Salón: 002\,Universidad Javeriana\,Bogotá\,Colombia
SUMMARY:Mutaciones de lo visible. Prácticas e identidades virtuales entre l
 os jóvenes 
URL:https://www.asociacionlatinoamericanadeantropologia.net/congreso2017/in
 dex.php?option=com_jem&view=event&id=1221:mutaciones-de-lo-visible-practic
 as-e-identidades-virtuales-entre-los-jovenes
END:VEVENT
BEGIN:VEVENT
UID:event1222@Congreso 2017
DTSTAMP:20260421T030440Z
CATEGORIES:Simposio: Juventudes en América Latina: contextos\, diversidades
  y perspectivas de análisis emergente
DESCRIPTION:Juventude liberal no Brasil contemporâneo: ação coletiva\, repe
 rtórios e performances políticas \nCategoría: Simposio: Juventudes en Amér
 ica Latina: contextos\, diversidades y perspectivas de análisis emergente
 \nEnlace: https://www.asociacionlatinoamericanadeantropologia.net/congreso
 2017/index.php?option=com_jem&view=event&id=1222:juventude-liberal-no-bras
 il-contemporaneo-acao-coletiva-repertorios-e-performances-politicas\n
DTSTART:20170608T140000Z
DTEND:20170608T160000Z
LOCATION:Edificio: 02 Salón: 002\,Universidad Javeriana\,Bogotá\,Colombia
SUMMARY:Juventude liberal no Brasil contemporâneo: ação coletiva\, repertór
 ios e performances políticas 
URL:https://www.asociacionlatinoamericanadeantropologia.net/congreso2017/in
 dex.php?option=com_jem&view=event&id=1222:juventude-liberal-no-brasil-cont
 emporaneo-acao-coletiva-repertorios-e-performances-politicas
END:VEVENT
BEGIN:VEVENT
UID:event1223@Congreso 2017
DTSTAMP:20260421T030440Z
CATEGORIES:Simposio: Juventudes en América Latina: contextos\, diversidades
  y perspectivas de análisis emergente
DESCRIPTION:Concepciones sobre identidad de lo indígena entre los jóvenes e
 studiantes de la Universidad Intercultural de Tabasco\, entre el sentirse 
 o no indígenas \nCategoría: Simposio: Juventudes en América Latina: contex
 tos\, diversidades y perspectivas de análisis emergente\nEnlace: https://w
 ww.asociacionlatinoamericanadeantropologia.net/congreso2017/index.php?opti
 on=com_jem&view=event&id=1223:concepciones-sobre-identidad-de-lo-indigena-
 entre-los-jovenes-estudiantes-de-la-universidad-intercultural-de-tabasco-e
 ntre-el-sentirse-o-no-indigenas\n
DTSTART:20170608T140000Z
DTEND:20170608T160000Z
LOCATION:Edificio: 02 Salón: 002\,Universidad Javeriana\,Bogotá\,Colombia
SUMMARY:Concepciones sobre identidad de lo indígena entre los jóvenes estud
 iantes de la Universidad Intercultural de Tabasco\, entre el sentirse o no
  indígenas 
URL:https://www.asociacionlatinoamericanadeantropologia.net/congreso2017/in
 dex.php?option=com_jem&view=event&id=1223:concepciones-sobre-identidad-de-
 lo-indigena-entre-los-jovenes-estudiantes-de-la-universidad-intercultural-
 de-tabasco-entre-el-sentirse-o-no-indigenas
END:VEVENT
END:VCALENDAR
