BEGIN:VCALENDAR
VERSION:2.0
PRODID:-//192.99.84.55//NONSGML kigkonsult.se iCalcreator 2.20//
CALSCALE:GREGORIAN
METHOD:PUBLISH
X-WR-TIMEZONE:UTC
BEGIN:VEVENT
UID:event1200@Congreso 2017
DTSTAMP:20260421T030614Z
CATEGORIES:Simposio: Identidades y subjetividades en acción: identidad de g
 énero\, sexualidad y afectividad en e
DESCRIPTION:La inconveniencia de usar barba: o de cómo lidiar con el ethos 
 del privilegio \nCategoría: Simposio: Identidades y subjetividades en acci
 ón: identidad de género\, sexualidad y afectividad en e\nEnlace: https://w
 ww.asociacionlatinoamericanadeantropologia.net/congreso2017/index.php?opti
 on=com_jem&view=event&id=1200:la-inconveniencia-de-usar-barba-o-de-como-li
 diar-con-el-ethos-del-privilegio\n
DTSTART:20170608T160000Z
DTEND:20170608T180000Z
LOCATION:Edificio: 02 Salón: 404\,Universidad Javeriana\,Bogotá\,Colombia
SUMMARY:La inconveniencia de usar barba: o de cómo lidiar con el ethos del 
 privilegio 
URL:https://www.asociacionlatinoamericanadeantropologia.net/congreso2017/in
 dex.php?option=com_jem&view=event&id=1200:la-inconveniencia-de-usar-barba-
 o-de-como-lidiar-con-el-ethos-del-privilegio
END:VEVENT
BEGIN:VEVENT
UID:event1201@Congreso 2017
DTSTAMP:20260421T030614Z
CATEGORIES:Simposio: Identidades y subjetividades en acción: identidad de g
 énero\, sexualidad y afectividad en e
DESCRIPTION:'¿Una mujer como usted acá?': sexualidades y subjetividades en 
 el trabajo etnográfico.\nCategoría: Simposio: Identidades y subjetividades
  en acción: identidad de género\, sexualidad y afectividad en e\nEnlace: h
 ttps://www.asociacionlatinoamericanadeantropologia.net/congreso2017/index.
 php?option=com_jem&view=event&id=1201:una-mujer-como-usted-aca-sexualidade
 s-y-subjetividades-en-el-trabajo-etnografico\n
DTSTART:20170608T160000Z
DTEND:20170608T180000Z
LOCATION:Edificio: 02 Salón: 404\,Universidad Javeriana\,Bogotá\,Colombia
SUMMARY:'¿Una mujer como usted acá?': sexualidades y subjetividades en el t
 rabajo etnográfico.
URL:https://www.asociacionlatinoamericanadeantropologia.net/congreso2017/in
 dex.php?option=com_jem&view=event&id=1201:una-mujer-como-usted-aca-sexuali
 dades-y-subjetividades-en-el-trabajo-etnografico
END:VEVENT
BEGIN:VEVENT
UID:event1202@Congreso 2017
DTSTAMP:20260421T030614Z
CATEGORIES:Simposio: Identidades y subjetividades en acción: identidad de g
 énero\, sexualidad y afectividad en e
DESCRIPTION:NPF e as mulheres: suas vozes e reverberações na discussão sobr
 e paternidade \nCategoría: Simposio: Identidades y subjetividades en acció
 n: identidad de género\, sexualidad y afectividad en e\nEnlace: https://ww
 w.asociacionlatinoamericanadeantropologia.net/congreso2017/index.php?optio
 n=com_jem&view=event&id=1202:npf-e-as-mulheres-suas-vozes-e-reverberacoes-
 na-discussao-sobre-paternidade\n
DTSTART:20170608T160000Z
DTEND:20170608T180000Z
LOCATION:Edificio: 02 Salón: 404\,Universidad Javeriana\,Bogotá\,Colombia
SUMMARY:NPF e as mulheres: suas vozes e reverberações na discussão sobre pa
 ternidade 
URL:https://www.asociacionlatinoamericanadeantropologia.net/congreso2017/in
 dex.php?option=com_jem&view=event&id=1202:npf-e-as-mulheres-suas-vozes-e-r
 everberacoes-na-discussao-sobre-paternidade
END:VEVENT
BEGIN:VEVENT
UID:event1203@Congreso 2017
DTSTAMP:20260421T030614Z
CATEGORIES:Simposio: Identidades y subjetividades en acción: identidad de g
 énero\, sexualidad y afectividad en e
DESCRIPTION:¿Y su marido le dio permiso para venir? Reflexiones sobre el es
 tar y ser mujer antropóloga en una comunidad indígena peruana \nCategoría:
  Simposio: Identidades y subjetividades en acción: identidad de género\, s
 exualidad y afectividad en e\nEnlace: https://www.asociacionlatinoamerican
 adeantropologia.net/congreso2017/index.php?option=com_jem&view=event&id=12
 03:y-su-marido-le-dio-permiso-para-venir-reflexiones-sobre-el-estar-y-ser-
 mujer-antropologa-en-una-comunidad-indigena-peruana\n
DTSTART:20170608T160000Z
DTEND:20170608T180000Z
LOCATION:Edificio: 02 Salón: 404\,Universidad Javeriana\,Bogotá\,Colombia
SUMMARY:¿Y su marido le dio permiso para venir? Reflexiones sobre el estar 
 y ser mujer antropóloga en una comunidad indígena peruana 
URL:https://www.asociacionlatinoamericanadeantropologia.net/congreso2017/in
 dex.php?option=com_jem&view=event&id=1203:y-su-marido-le-dio-permiso-para-
 venir-reflexiones-sobre-el-estar-y-ser-mujer-antropologa-en-una-comunidad-
 indigena-peruana
END:VEVENT
BEGIN:VEVENT
UID:event1204@Congreso 2017
DTSTAMP:20260421T030614Z
CATEGORIES:Simposio: Identidades y subjetividades en acción: identidad de g
 énero\, sexualidad y afectividad en e
DESCRIPTION:Entendiendo sin entender: un testimonio desde la diversidad men
 tal \nCategoría: Simposio: Identidades y subjetividades en acción: identid
 ad de género\, sexualidad y afectividad en e\nEnlace: https://www.asociaci
 onlatinoamericanadeantropologia.net/congreso2017/index.php?option=com_jem&
 view=event&id=1204:entendiendo-sin-entender-un-testimonio-desde-la-diversi
 dad-mental\n
DTSTART:20170609T090000Z
DTEND:20170609T110000Z
LOCATION:Edificio: 02 Salón: 404\,Universidad Javeriana\,Bogotá\,Colombia
SUMMARY:Entendiendo sin entender: un testimonio desde la diversidad mental 
URL:https://www.asociacionlatinoamericanadeantropologia.net/congreso2017/in
 dex.php?option=com_jem&view=event&id=1204:entendiendo-sin-entender-un-test
 imonio-desde-la-diversidad-mental
END:VEVENT
BEGIN:VEVENT
UID:event1205@Congreso 2017
DTSTAMP:20260421T030614Z
CATEGORIES:Simposio: Identidades y subjetividades en acción: identidad de g
 énero\, sexualidad y afectividad en e
DESCRIPTION:“Vayan\, pero no queremos gente que no haga nada”. Posiciones d
 el investigador y límites de la participación en encuentros BDSM.  \nCateg
 oría: Simposio: Identidades y subjetividades en acción: identidad de géner
 o\, sexualidad y afectividad en e\nEnlace: https://www.asociacionlatinoame
 ricanadeantropologia.net/congreso2017/index.php?option=com_jem&view=event&
 id=1205:vayan-pero-no-queremos-gente-que-no-haga-nada-posiciones-del-inves
 tigador-y-limites-de-la-participacion-en-encuentros-bdsm\n
DTSTART:20170609T090000Z
DTEND:20170609T110000Z
LOCATION:Edificio: 02 Salón: 404\,Universidad Javeriana\,Bogotá\,Colombia
SUMMARY:“Vayan\, pero no queremos gente que no haga nada”. Posiciones del i
 nvestigador y límites de la participación en encuentros BDSM.  
URL:https://www.asociacionlatinoamericanadeantropologia.net/congreso2017/in
 dex.php?option=com_jem&view=event&id=1205:vayan-pero-no-queremos-gente-que
 -no-haga-nada-posiciones-del-investigador-y-limites-de-la-participacion-en
 -encuentros-bdsm
END:VEVENT
BEGIN:VEVENT
UID:event1206@Congreso 2017
DTSTAMP:20260421T030614Z
CATEGORIES:Simposio: Identidades y subjetividades en acción: identidad de g
 énero\, sexualidad y afectividad en e
DESCRIPTION:Corpo e emoções na experiência orgiástica do antropólogo  \nCat
 egoría: Simposio: Identidades y subjetividades en acción: identidad de gén
 ero\, sexualidad y afectividad en e\nEnlace: https://www.asociacionlatinoa
 mericanadeantropologia.net/congreso2017/index.php?option=com_jem&view=even
 t&id=1206:corpo-e-emocoes-na-experiencia-orgiastica-do-antropologo\n
DTSTART:20170609T090000Z
DTEND:20170609T110000Z
LOCATION:Edificio: 02 Salón: 404\,Universidad Javeriana\,Bogotá\,Colombia
SUMMARY:Corpo e emoções na experiência orgiástica do antropólogo  
URL:https://www.asociacionlatinoamericanadeantropologia.net/congreso2017/in
 dex.php?option=com_jem&view=event&id=1206:corpo-e-emocoes-na-experiencia-o
 rgiastica-do-antropologo
END:VEVENT
BEGIN:VEVENT
UID:event1207@Congreso 2017
DTSTAMP:20260421T030614Z
CATEGORIES:Simposio: Identidades y subjetividades en acción: identidad de g
 énero\, sexualidad y afectividad en e
DESCRIPTION:Ser gay e investigar con niños \nCategoría: Simposio: Identidad
 es y subjetividades en acción: identidad de género\, sexualidad y afectivi
 dad en e\nEnlace: https://www.asociacionlatinoamericanadeantropologia.net/
 congreso2017/index.php?option=com_jem&view=event&id=1207:ser-gay-e-investi
 gar-con-ninos\n
DTSTART:20170609T090000Z
DTEND:20170609T110000Z
LOCATION:Edificio: 02 Salón: 404\,Universidad Javeriana\,Bogotá\,Colombia
SUMMARY:Ser gay e investigar con niños 
URL:https://www.asociacionlatinoamericanadeantropologia.net/congreso2017/in
 dex.php?option=com_jem&view=event&id=1207:ser-gay-e-investigar-con-ninos
END:VEVENT
BEGIN:VEVENT
UID:event1208@Congreso 2017
DTSTAMP:20260421T030614Z
CATEGORIES:Simposio: Identidades y subjetividades en acción: identidad de g
 énero\, sexualidad y afectividad en e
DESCRIPTION:De como hacer antropología de los intentos. Notas lesbianas. \n
 Categoría: Simposio: Identidades y subjetividades en acción: identidad de 
 género\, sexualidad y afectividad en e\nEnlace: https://www.asociacionlati
 noamericanadeantropologia.net/congreso2017/index.php?option=com_jem&view=e
 vent&id=1208:de-como-hacer-antropologia-de-los-intentos-notas-lesbianas\n
DTSTART:20170609T110000Z
DTEND:20170609T130000Z
LOCATION:Edificio: 02 Salón: 404\,Universidad Javeriana\,Bogotá\,Colombia
SUMMARY:De como hacer antropología de los intentos. Notas lesbianas. 
URL:https://www.asociacionlatinoamericanadeantropologia.net/congreso2017/in
 dex.php?option=com_jem&view=event&id=1208:de-como-hacer-antropologia-de-lo
 s-intentos-notas-lesbianas
END:VEVENT
BEGIN:VEVENT
UID:event1209@Congreso 2017
DTSTAMP:20260421T030614Z
CATEGORIES:Simposio: Identidades y subjetividades en acción: identidad de g
 énero\, sexualidad y afectividad en e
DESCRIPTION:Subjetividades eróticas en la investigación de espacios vividos
  de mujeres del gremio en Tepito \nCategoría: Simposio: Identidades y subj
 etividades en acción: identidad de género\, sexualidad y afectividad en e
 \nEnlace: https://www.asociacionlatinoamericanadeantropologia.net/congreso
 2017/index.php?option=com_jem&view=event&id=1209:subjetividades-eroticas-e
 n-la-investigacion-de-espacios-vividos-de-mujeres-del-gremio-en-tepito\n
DTSTART:20170609T110000Z
DTEND:20170609T130000Z
LOCATION:Edificio: 02 Salón: 404\,Universidad Javeriana\,Bogotá\,Colombia
SUMMARY:Subjetividades eróticas en la investigación de espacios vividos de 
 mujeres del gremio en Tepito 
URL:https://www.asociacionlatinoamericanadeantropologia.net/congreso2017/in
 dex.php?option=com_jem&view=event&id=1209:subjetividades-eroticas-en-la-in
 vestigacion-de-espacios-vividos-de-mujeres-del-gremio-en-tepito
END:VEVENT
BEGIN:VEVENT
UID:event1210@Congreso 2017
DTSTAMP:20260421T030614Z
CATEGORIES:Simposio: Identidades y subjetividades en acción: identidad de g
 énero\, sexualidad y afectividad en e
DESCRIPTION:Bordando una etnografía feminista: sobre cómo el bordar colecti
 vo afecta la intimidad etnográfica y su escritura\nCategoría: Simposio: Id
 entidades y subjetividades en acción: identidad de género\, sexualidad y a
 fectividad en e\nEnlace: https://www.asociacionlatinoamericanadeantropolog
 ia.net/congreso2017/index.php?option=com_jem&view=event&id=1210:bordando-u
 na-etnografia-feminista-sobre-como-el-bordar-colectivo-afecta-la-intimidad
 -etnografica-y-su-escritura\n
DTSTART:20170609T110000Z
DTEND:20170609T130000Z
LOCATION:Edificio: 02 Salón: 404\,Universidad Javeriana\,Bogotá\,Colombia
SUMMARY:Bordando una etnografía feminista: sobre cómo el bordar colectivo a
 fecta la intimidad etnográfica y su escritura
URL:https://www.asociacionlatinoamericanadeantropologia.net/congreso2017/in
 dex.php?option=com_jem&view=event&id=1210:bordando-una-etnografia-feminist
 a-sobre-como-el-bordar-colectivo-afecta-la-intimidad-etnografica-y-su-escr
 itura
END:VEVENT
BEGIN:VEVENT
UID:event1211@Congreso 2017
DTSTAMP:20260421T030614Z
CATEGORIES:Simposio: Identidades y subjetividades en acción: identidad de g
 énero\, sexualidad y afectividad en e
DESCRIPTION:Miradas sobre el género y la raza/etnia: haciendo etnografía en
  el Pacífico colombo-ecuatorian\nCategoría: Simposio: Identidades y subjet
 ividades en acción: identidad de género\, sexualidad y afectividad en e\nE
 nlace: https://www.asociacionlatinoamericanadeantropologia.net/congreso201
 7/index.php?option=com_jem&view=event&id=1211:miradas-sobre-el-genero-y-la
 -raza-etnia-haciendo-etnografia-en-el-pacifico-colombo-ecuatorian\n
DTSTART:20170609T110000Z
DTEND:20170609T130000Z
LOCATION:Edificio: 02 Salón: 404\,Universidad Javeriana\,Bogotá\,Colombia
SUMMARY:Miradas sobre el género y la raza/etnia: haciendo etnografía en el 
 Pacífico colombo-ecuatorian
URL:https://www.asociacionlatinoamericanadeantropologia.net/congreso2017/in
 dex.php?option=com_jem&view=event&id=1211:miradas-sobre-el-genero-y-la-raz
 a-etnia-haciendo-etnografia-en-el-pacifico-colombo-ecuatorian
END:VEVENT
END:VCALENDAR
