BEGIN:VCALENDAR
VERSION:2.0
PRODID:-//192.99.84.55//NONSGML kigkonsult.se iCalcreator 2.20//
CALSCALE:GREGORIAN
METHOD:PUBLISH
X-WR-TIMEZONE:UTC
BEGIN:VEVENT
UID:event1189@Congreso 2017
DTSTAMP:20260421T013703Z
CATEGORIES:Simposio: Cuerpo y corporalidades en el Caribe
DESCRIPTION:Los ‘group a po’ de Guadalupe/Caribe: cuerpos\, sonidos\, movim
 ientos y el ser guadalupeño.\nCategoría: Simposio: Cuerpo y corporalidades
  en el Caribe\nEnlace: https://www.asociacionlatinoamericanadeantropologia
 .net/congreso2017/index.php?option=com_jem&view=event&id=1189:los-group-a-
 po-de-guadalupe-caribe-cuerpos-sonidos-movimientos-y-el-ser-guadalupeno\n
DTSTART:20170608T160000Z
DTEND:20170608T180000Z
LOCATION:Edificio: 67 Salón: 212\,Universidad Javeriana\,Bogotá\,Colombia
SUMMARY:Los ‘group a po’ de Guadalupe/Caribe: cuerpos\, sonidos\, movimient
 os y el ser guadalupeño.
URL:https://www.asociacionlatinoamericanadeantropologia.net/congreso2017/in
 dex.php?option=com_jem&view=event&id=1189:los-group-a-po-de-guadalupe-cari
 be-cuerpos-sonidos-movimientos-y-el-ser-guadalupeno
END:VEVENT
BEGIN:VEVENT
UID:event1190@Congreso 2017
DTSTAMP:20260421T013703Z
CATEGORIES:Simposio: Cuerpo y corporalidades en el Caribe
DESCRIPTION:Tocando presencias-ausentes: nociones de cuerpo y persona entre
  mujeres cristianas de la villa afro-caribeña Old Bank\, Panamá. \nCategor
 ía: Simposio: Cuerpo y corporalidades en el Caribe\nEnlace: https://www.as
 ociacionlatinoamericanadeantropologia.net/congreso2017/index.php?option=co
 m_jem&view=event&id=1190:tocando-presencias-ausentes-nociones-de-cuerpo-y-
 persona-entre-mujeres-cristianas-de-la-villa-afro-caribena-old-bank-panama
 \n
DTSTART:20170608T160000Z
DTEND:20170608T180000Z
LOCATION:Edificio: 67 Salón: 212\,Universidad Javeriana\,Bogotá\,Colombia
SUMMARY:Tocando presencias-ausentes: nociones de cuerpo y persona entre muj
 eres cristianas de la villa afro-caribeña Old Bank\, Panamá. 
URL:https://www.asociacionlatinoamericanadeantropologia.net/congreso2017/in
 dex.php?option=com_jem&view=event&id=1190:tocando-presencias-ausentes-noci
 ones-de-cuerpo-y-persona-entre-mujeres-cristianas-de-la-villa-afro-cariben
 a-old-bank-panama
END:VEVENT
BEGIN:VEVENT
UID:event1191@Congreso 2017
DTSTAMP:20260421T013703Z
CATEGORIES:Simposio: Cuerpo y corporalidades en el Caribe
DESCRIPTION:Vunerabilidades compartilhadas: espíritos vingativos\, padrinho
 s espirituais e outrosVunerabilidades compartilhadas: espíritos vingativos
 \, padrinhos espirituais (saamaka\, Suriname) mortos \nCategoría: Simposio
 : Cuerpo y corporalidades en el Caribe\nEnlace: https://www.asociacionlati
 noamericanadeantropologia.net/congreso2017/index.php?option=com_jem&view=e
 vent&id=1191:vunerabilidades-compartilhadas-espiritos-vingativos-padrinhos
 -espirituais-e-outrosvunerabilidades-compartilhadas-espiritos-vingativos-p
 adrinhos-espirituais-saamaka-suriname-mortos\n
DTSTART:20170608T160000Z
DTEND:20170608T180000Z
LOCATION:Edificio: 67 Salón: 212\,Universidad Javeriana\,Bogotá\,Colombia
SUMMARY:Vunerabilidades compartilhadas: espíritos vingativos\, padrinhos es
 pirituais e outrosVunerabilidades compartilhadas: espíritos vingativos\, p
 adrinhos espirituais (saamaka\, Suriname) mortos 
URL:https://www.asociacionlatinoamericanadeantropologia.net/congreso2017/in
 dex.php?option=com_jem&view=event&id=1191:vunerabilidades-compartilhadas-e
 spiritos-vingativos-padrinhos-espirituais-e-outrosvunerabilidades-comparti
 lhadas-espiritos-vingativos-padrinhos-espirituais-saamaka-suriname-mortos
END:VEVENT
BEGIN:VEVENT
UID:event1192@Congreso 2017
DTSTAMP:20260421T013703Z
CATEGORIES:Simposio: Cuerpo y corporalidades en el Caribe
DESCRIPTION:El archivo del caso Reinaldo Arenas: cuerpo y corpus. \nCategor
 ía: Simposio: Cuerpo y corporalidades en el Caribe\nEnlace: https://www.as
 ociacionlatinoamericanadeantropologia.net/congreso2017/index.php?option=co
 m_jem&view=event&id=1192:el-archivo-del-caso-reinaldo-arenas-cuerpo-y-corp
 us\n
DTSTART:20170608T160000Z
DTEND:20170608T180000Z
LOCATION:Edificio: 67 Salón: 212\,Universidad Javeriana\,Bogotá\,Colombia
SUMMARY:El archivo del caso Reinaldo Arenas: cuerpo y corpus. 
URL:https://www.asociacionlatinoamericanadeantropologia.net/congreso2017/in
 dex.php?option=com_jem&view=event&id=1192:el-archivo-del-caso-reinaldo-are
 nas-cuerpo-y-corpus
END:VEVENT
BEGIN:VEVENT
UID:event1193@Congreso 2017
DTSTAMP:20260421T013703Z
CATEGORIES:Simposio: Cuerpo y corporalidades en el Caribe
DESCRIPTION:Cuerpos de Maria Lionza. Corporalidades\, imágenes e identidade
 s de una religión venezolana.\nCategoría: Simposio: Cuerpo y corporalidade
 s en el Caribe\nEnlace: https://www.asociacionlatinoamericanadeantropologi
 a.net/congreso2017/index.php?option=com_jem&view=event&id=1193:cuerpos-de-
 maria-lionza-corporalidades-imagenes-e-identidades-de-una-religion-venezol
 ana\n
DTSTART:20170609T090000Z
DTEND:20170609T110000Z
LOCATION:Edificio: 67 Salón: 212\,Universidad Javeriana\,Bogotá\,Colombia
SUMMARY:Cuerpos de Maria Lionza. Corporalidades\, imágenes e identidades de
  una religión venezolana.
URL:https://www.asociacionlatinoamericanadeantropologia.net/congreso2017/in
 dex.php?option=com_jem&view=event&id=1193:cuerpos-de-maria-lionza-corporal
 idades-imagenes-e-identidades-de-una-religion-venezolana
END:VEVENT
BEGIN:VEVENT
UID:event1194@Congreso 2017
DTSTAMP:20260421T013703Z
CATEGORIES:Simposio: Cuerpo y corporalidades en el Caribe
DESCRIPTION:Cruzamientos entre migraciones y género: Archivos de memorias c
 orporales en el Caribe Colombiano \nCategoría: Simposio: Cuerpo y corporal
 idades en el Caribe\nEnlace: https://www.asociacionlatinoamericanadeantrop
 ologia.net/congreso2017/index.php?option=com_jem&view=event&id=1194:cruzam
 ientos-entre-migraciones-y-genero-archivos-de-memorias-corporales-en-el-ca
 ribe-colombiano\n
DTSTART:20170609T090000Z
DTEND:20170609T110000Z
LOCATION:Edificio: 67 Salón: 212\,Universidad Javeriana\,Bogotá\,Colombia
SUMMARY:Cruzamientos entre migraciones y género: Archivos de memorias corpo
 rales en el Caribe Colombiano 
URL:https://www.asociacionlatinoamericanadeantropologia.net/congreso2017/in
 dex.php?option=com_jem&view=event&id=1194:cruzamientos-entre-migraciones-y
 -genero-archivos-de-memorias-corporales-en-el-caribe-colombiano
END:VEVENT
BEGIN:VEVENT
UID:event1195@Congreso 2017
DTSTAMP:20260421T013703Z
CATEGORIES:Simposio: Cuerpo y corporalidades en el Caribe
DESCRIPTION:Perspectivas do século XX e do início do século XXI sobre o cor
 po das mulheres negras em dois estudos etnográficos no Caribe.\nCategoría:
  Simposio: Cuerpo y corporalidades en el Caribe\nEnlace: https://www.asoci
 acionlatinoamericanadeantropologia.net/congreso2017/index.php?option=com_j
 em&view=event&id=1195:perspectivas-do-seculo-xx-e-do-inicio-do-seculo-xxi-
 sobre-o-corpo-das-mulheres-negras-em-dois-estudos-etnograficos-no-caribe\n
DTSTART:20170609T090000Z
DTEND:20170609T110000Z
LOCATION:Edificio: 67 Salón: 212\,Universidad Javeriana\,Bogotá\,Colombia
SUMMARY:Perspectivas do século XX e do início do século XXI sobre o corpo d
 as mulheres negras em dois estudos etnográficos no Caribe.
URL:https://www.asociacionlatinoamericanadeantropologia.net/congreso2017/in
 dex.php?option=com_jem&view=event&id=1195:perspectivas-do-seculo-xx-e-do-i
 nicio-do-seculo-xxi-sobre-o-corpo-das-mulheres-negras-em-dois-estudos-etno
 graficos-no-caribe
END:VEVENT
BEGIN:VEVENT
UID:event1196@Congreso 2017
DTSTAMP:20260421T013703Z
CATEGORIES:Simposio: Cuerpo y corporalidades en el Caribe
DESCRIPTION:Notas etnográficas sobre pessoa\, corpo e corporalidade no Ilé 
 Ogun e Yemayá na cidade de Bogotá\, Colômbia \nCategoría: Simposio: Cuerpo
  y corporalidades en el Caribe\nEnlace: https://www.asociacionlatinoameric
 anadeantropologia.net/congreso2017/index.php?option=com_jem&view=event&id=
 1196:notas-etnograficas-sobre-pessoa-corpo-e-corporalidade-no-ile-ogun-e-y
 emaya-na-cidade-de-bogota-colombia\n
DTSTART:20170609T110000Z
DTEND:20170609T130000Z
LOCATION:Edificio: 67 Salón: 212\,Universidad Javeriana\,Bogotá\,Colombia
SUMMARY:Notas etnográficas sobre pessoa\, corpo e corporalidade no Ilé Ogun
  e Yemayá na cidade de Bogotá\, Colômbia 
URL:https://www.asociacionlatinoamericanadeantropologia.net/congreso2017/in
 dex.php?option=com_jem&view=event&id=1196:notas-etnograficas-sobre-pessoa-
 corpo-e-corporalidade-no-ile-ogun-e-yemaya-na-cidade-de-bogota-colombia
END:VEVENT
BEGIN:VEVENT
UID:event1197@Congreso 2017
DTSTAMP:20260421T013703Z
CATEGORIES:Simposio: Cuerpo y corporalidades en el Caribe
DESCRIPTION:Guardar\, pintar\, pensar: o Haiti e a imaginação antropológica
  dos anos 1940  \nCategoría: Simposio: Cuerpo y corporalidades en el Carib
 e\nEnlace: https://www.asociacionlatinoamericanadeantropologia.net/congres
 o2017/index.php?option=com_jem&view=event&id=1197:guardar-pintar-pensar-o-
 haiti-e-a-imaginacao-antropologica-dos-anos-1940\n
DTSTART:20170609T110000Z
DTEND:20170609T130000Z
LOCATION:Edificio: 67 Salón: 212\,Universidad Javeriana\,Bogotá\,Colombia
SUMMARY:Guardar\, pintar\, pensar: o Haiti e a imaginação antropológica dos
  anos 1940  
URL:https://www.asociacionlatinoamericanadeantropologia.net/congreso2017/in
 dex.php?option=com_jem&view=event&id=1197:guardar-pintar-pensar-o-haiti-e-
 a-imaginacao-antropologica-dos-anos-1940
END:VEVENT
BEGIN:VEVENT
UID:event1198@Congreso 2017
DTSTAMP:20260421T013703Z
CATEGORIES:Simposio: Cuerpo y corporalidades en el Caribe
DESCRIPTION:Corporeidade negra e cinema haitiano:  o filme Anita\, de Rasso
 ul Labouchin \nCategoría: Simposio: Cuerpo y corporalidades en el Caribe\n
 Enlace: https://www.asociacionlatinoamericanadeantropologia.net/congreso20
 17/index.php?option=com_jem&view=event&id=1198:corporeidade-negra-e-cinema
 -haitiano-o-filme-anita-de-rassoul-labouchin\n
DTSTART:20170609T110000Z
DTEND:20170609T130000Z
LOCATION:Edificio: 67 Salón: 212\,Universidad Javeriana\,Bogotá\,Colombia
SUMMARY:Corporeidade negra e cinema haitiano:  o filme Anita\, de Rassoul L
 abouchin 
URL:https://www.asociacionlatinoamericanadeantropologia.net/congreso2017/in
 dex.php?option=com_jem&view=event&id=1198:corporeidade-negra-e-cinema-hait
 iano-o-filme-anita-de-rassoul-labouchin
END:VEVENT
BEGIN:VEVENT
UID:event1199@Congreso 2017
DTSTAMP:20260421T013703Z
CATEGORIES:Simposio: Cuerpo y corporalidades en el Caribe
DESCRIPTION:Pessoas da República Dominicana\, transferências e afinidades 
 \nCategoría: Simposio: Cuerpo y corporalidades en el Caribe\nEnlace: https
 ://www.asociacionlatinoamericanadeantropologia.net/congreso2017/index.php?
 option=com_jem&view=event&id=1199:pessoas-da-republica-dominicana-transfer
 encias-e-afinidades\n
DTSTART:20170609T110000Z
DTEND:20170609T130000Z
LOCATION:Edificio: 67 Salón: 212\,Universidad Javeriana\,Bogotá\,Colombia
SUMMARY:Pessoas da República Dominicana\, transferências e afinidades 
URL:https://www.asociacionlatinoamericanadeantropologia.net/congreso2017/in
 dex.php?option=com_jem&view=event&id=1199:pessoas-da-republica-dominicana-
 transferencias-e-afinidades
END:VEVENT
END:VCALENDAR
