BEGIN:VCALENDAR
VERSION:2.0
PRODID:-//192.99.84.55//NONSGML kigkonsult.se iCalcreator 2.20//
CALSCALE:GREGORIAN
METHOD:PUBLISH
X-WR-TIMEZONE:UTC
BEGIN:VEVENT
UID:event1177@Congreso 2017
DTSTAMP:20260421T030435Z
CATEGORIES:Simposio: Antropología del deporte en América Latina: abordajes\
 , temáticas y perspectivas
DESCRIPTION:Estudios sociales del deporte: el fútbol y la transformación de
 l campo en Argentina\nCategoría: Simposio: Antropología del deporte en Amé
 rica Latina: abordajes\, temáticas y perspectivas\nEnlace: https://www.aso
 ciacionlatinoamericanadeantropologia.net/congreso2017/index.php?option=com
 _jem&view=event&id=1177:estudios-sociales-del-deporte-el-futbol-y-la-trans
 formacion-del-campo-en-argentina\n
DTSTART:20170608T160000Z
DTEND:20170608T180000Z
LOCATION:Edificio: 67 Salón: 207\,Universidad Javeriana\,Bogotá\,Colombia
SUMMARY:Estudios sociales del deporte: el fútbol y la transformación del ca
 mpo en Argentina
URL:https://www.asociacionlatinoamericanadeantropologia.net/congreso2017/in
 dex.php?option=com_jem&view=event&id=1177:estudios-sociales-del-deporte-el
 -futbol-y-la-transformacion-del-campo-en-argentina
END:VEVENT
BEGIN:VEVENT
UID:event1178@Congreso 2017
DTSTAMP:20260421T030435Z
CATEGORIES:Simposio: Antropología del deporte en América Latina: abordajes\
 , temáticas y perspectivas
DESCRIPTION:La nación desde el transmóvil: la construcción radial de la pat
 ria a través de la épica de los ciclistas “escarabajos” en el Frente Nacio
 nal (1958- 1974)\nCategoría: Simposio: Antropología del deporte en América
  Latina: abordajes\, temáticas y perspectivas\nEnlace: https://www.asociac
 ionlatinoamericanadeantropologia.net/congreso2017/index.php?option=com_jem
 &view=event&id=1178:la-nacion-desde-el-transmovil-la-construccion-radial-d
 e-la-patria-a-traves-de-la-epica-de-los-ciclistas-escarabajos-en-el-frente
 -nacional-1958-1974\n
DTSTART:20170608T160000Z
DTEND:20170608T180000Z
LOCATION:Edificio: 67 Salón: 207\,Universidad Javeriana\,Bogotá\,Colombia
SUMMARY:La nación desde el transmóvil: la construcción radial de la patria 
 a través de la épica de los ciclistas “escarabajos” en el Frente Nacional 
 (1958- 1974)
URL:https://www.asociacionlatinoamericanadeantropologia.net/congreso2017/in
 dex.php?option=com_jem&view=event&id=1178:la-nacion-desde-el-transmovil-la
 -construccion-radial-de-la-patria-a-traves-de-la-epica-de-los-ciclistas-es
 carabajos-en-el-frente-nacional-1958-1974
END:VEVENT
BEGIN:VEVENT
UID:event1179@Congreso 2017
DTSTAMP:20260421T030435Z
CATEGORIES:Simposio: Antropología del deporte en América Latina: abordajes\
 , temáticas y perspectivas
DESCRIPTION:El oficio de futbolista en los años sesenta y setenta en “un pa
 ís de regiones\nCategoría: Simposio: Antropología del deporte en América L
 atina: abordajes\, temáticas y perspectivas\nEnlace: https://www.asociacio
 nlatinoamericanadeantropologia.net/congreso2017/index.php?option=com_jem&v
 iew=event&id=1179:el-oficio-de-futbolista-en-los-anos-sesenta-y-setenta-en
 -un-pais-de-regiones\n
DTSTART:20170608T160000Z
DTEND:20170608T180000Z
LOCATION:Edificio: 67 Salón: 207\,Universidad Javeriana\,Bogotá\,Colombia
SUMMARY:El oficio de futbolista en los años sesenta y setenta en “un país d
 e regiones
URL:https://www.asociacionlatinoamericanadeantropologia.net/congreso2017/in
 dex.php?option=com_jem&view=event&id=1179:el-oficio-de-futbolista-en-los-a
 nos-sesenta-y-setenta-en-un-pais-de-regiones
END:VEVENT
BEGIN:VEVENT
UID:event1180@Congreso 2017
DTSTAMP:20260421T030435Z
CATEGORIES:Simposio: Antropología del deporte en América Latina: abordajes\
 , temáticas y perspectivas
DESCRIPTION:Dominación clientelar o alternativa social: negociaciones entre
  políticos mexicanos y barras de fútbol en los albores del siglo XXI.\nCat
 egoría: Simposio: Antropología del deporte en América Latina: abordajes\, 
 temáticas y perspectivas\nEnlace: https://www.asociacionlatinoamericanadea
 ntropologia.net/congreso2017/index.php?option=com_jem&view=event&id=1180:d
 ominacion-clientelar-o-alternativa-social-negociaciones-entre-politicos-me
 xicanos-y-barras-de-futbol-en-los-albores-del-siglo-xxi\n
DTSTART:20170608T160000Z
DTEND:20170608T180000Z
LOCATION:Edificio: 67 Salón: 207\,Universidad Javeriana\,Bogotá\,Colombia
SUMMARY:Dominación clientelar o alternativa social: negociaciones entre pol
 íticos mexicanos y barras de fútbol en los albores del siglo XXI.
URL:https://www.asociacionlatinoamericanadeantropologia.net/congreso2017/in
 dex.php?option=com_jem&view=event&id=1180:dominacion-clientelar-o-alternat
 iva-social-negociaciones-entre-politicos-mexicanos-y-barras-de-futbol-en-l
 os-albores-del-siglo-xxi
END:VEVENT
BEGIN:VEVENT
UID:event1181@Congreso 2017
DTSTAMP:20260421T030435Z
CATEGORIES:Simposio: Antropología del deporte en América Latina: abordajes\
 , temáticas y perspectivas
DESCRIPTION:Algumas considerações sobre o público dos Jogos Paralímpicos do
  Rio de Janeiro (2016)\nCategoría: Simposio: Antropología del deporte en A
 mérica Latina: abordajes\, temáticas y perspectivas\nEnlace: https://www.a
 sociacionlatinoamericanadeantropologia.net/congreso2017/index.php?option=c
 om_jem&view=event&id=1181:algumas-consideracoes-sobre-o-publico-dos-jogos-
 paralimpicos-do-rio-de-janeiro-2016\n
DTSTART:20170609T090000Z
DTEND:20170609T110000Z
LOCATION:Edificio: 67 Salón: 207\,Universidad Javeriana\,Bogotá\,Colombia
SUMMARY:Algumas considerações sobre o público dos Jogos Paralímpicos do Rio
  de Janeiro (2016)
URL:https://www.asociacionlatinoamericanadeantropologia.net/congreso2017/in
 dex.php?option=com_jem&view=event&id=1181:algumas-consideracoes-sobre-o-pu
 blico-dos-jogos-paralimpicos-do-rio-de-janeiro-2016
END:VEVENT
BEGIN:VEVENT
UID:event1182@Congreso 2017
DTSTAMP:20260421T030435Z
CATEGORIES:Simposio: Antropología del deporte en América Latina: abordajes\
 , temáticas y perspectivas
DESCRIPTION:Tan lejos de ganar el mundial y tan cerca de Estados Unidos: La
  rivalidad futbolera entre México y Estados Unidos durante las décadas de 
 1980 y 1990\nCategoría: Simposio: Antropología del deporte en América Lati
 na: abordajes\, temáticas y perspectivas\nEnlace: https://www.asociacionla
 tinoamericanadeantropologia.net/congreso2017/index.php?option=com_jem&view
 =event&id=1182:tan-lejos-de-ganar-el-mundial-y-tan-cerca-de-estados-unidos
 -la-rivalidad-futbolera-entre-mexico-y-estados-unidos-durante-las-decadas-
 de-1980-y-1990\n
DTSTART:20170609T090000Z
DTEND:20170609T110000Z
LOCATION:Edificio: 67 Salón: 207\,Universidad Javeriana\,Bogotá\,Colombia
SUMMARY:Tan lejos de ganar el mundial y tan cerca de Estados Unidos: La riv
 alidad futbolera entre México y Estados Unidos durante las décadas de 1980
  y 1990
URL:https://www.asociacionlatinoamericanadeantropologia.net/congreso2017/in
 dex.php?option=com_jem&view=event&id=1182:tan-lejos-de-ganar-el-mundial-y-
 tan-cerca-de-estados-unidos-la-rivalidad-futbolera-entre-mexico-y-estados-
 unidos-durante-las-decadas-de-1980-y-1990
END:VEVENT
BEGIN:VEVENT
UID:event1183@Congreso 2017
DTSTAMP:20260421T030435Z
CATEGORIES:Simposio: Antropología del deporte en América Latina: abordajes\
 , temáticas y perspectivas
DESCRIPTION:Contactos trasatlánticos entre la élite colombiana y los deport
 es europeos en el siglo XIX\nCategoría: Simposio: Antropología del deporte
  en América Latina: abordajes\, temáticas y perspectivas\nEnlace: https://
 www.asociacionlatinoamericanadeantropologia.net/congreso2017/index.php?opt
 ion=com_jem&view=event&id=1183:contactos-trasatlanticos-entre-la-elite-col
 ombiana-y-los-deportes-europeos-en-el-siglo-xix\n
DTSTART:20170609T090000Z
DTEND:20170609T110000Z
LOCATION:Edificio: 67 Salón: 207\,Universidad Javeriana\,Bogotá\,Colombia
SUMMARY:Contactos trasatlánticos entre la élite colombiana y los deportes e
 uropeos en el siglo XIX
URL:https://www.asociacionlatinoamericanadeantropologia.net/congreso2017/in
 dex.php?option=com_jem&view=event&id=1183:contactos-trasatlanticos-entre-l
 a-elite-colombiana-y-los-deportes-europeos-en-el-siglo-xix
END:VEVENT
BEGIN:VEVENT
UID:event1184@Congreso 2017
DTSTAMP:20260421T030435Z
CATEGORIES:Simposio: Antropología del deporte en América Latina: abordajes\
 , temáticas y perspectivas
DESCRIPTION:Dos décadas de Barrismo en Colombia\, balance y perspectivas\nC
 ategoría: Simposio: Antropología del deporte en América Latina: abordajes\
 , temáticas y perspectivas\nEnlace: https://www.asociacionlatinoamericanad
 eantropologia.net/congreso2017/index.php?option=com_jem&view=event&id=1184
 :dos-decadas-de-barrismo-en-colombia-balance-y-perspectivas\n
DTSTART:20170609T090000Z
DTEND:20170609T110000Z
LOCATION:Edificio: 67 Salón: 207\,Universidad Javeriana\,Bogotá\,Colombia
SUMMARY:Dos décadas de Barrismo en Colombia\, balance y perspectivas
URL:https://www.asociacionlatinoamericanadeantropologia.net/congreso2017/in
 dex.php?option=com_jem&view=event&id=1184:dos-decadas-de-barrismo-en-colom
 bia-balance-y-perspectivas
END:VEVENT
BEGIN:VEVENT
UID:event1185@Congreso 2017
DTSTAMP:20260421T030435Z
CATEGORIES:Simposio: Antropología del deporte en América Latina: abordajes\
 , temáticas y perspectivas
DESCRIPTION:Fútbol Femenino en Colombia: Una partida contra el machismo y e
 l preconcepto\nCategoría: Simposio: Antropología del deporte en América La
 tina: abordajes\, temáticas y perspectivas\nEnlace: https://www.asociacion
 latinoamericanadeantropologia.net/congreso2017/index.php?option=com_jem&vi
 ew=event&id=1185:futbol-femenino-en-colombia-una-partida-contra-el-machism
 o-y-el-preconcepto\n
DTSTART:20170609T110000Z
DTEND:20170609T130000Z
LOCATION:Edificio: 67 Salón: 207\,Universidad Javeriana\,Bogotá\,Colombia
SUMMARY:Fútbol Femenino en Colombia: Una partida contra el machismo y el pr
 econcepto
URL:https://www.asociacionlatinoamericanadeantropologia.net/congreso2017/in
 dex.php?option=com_jem&view=event&id=1185:futbol-femenino-en-colombia-una-
 partida-contra-el-machismo-y-el-preconcepto
END:VEVENT
BEGIN:VEVENT
UID:event1186@Congreso 2017
DTSTAMP:20260421T030435Z
CATEGORIES:Simposio: Antropología del deporte en América Latina: abordajes\
 , temáticas y perspectivas
DESCRIPTION:Identidad y violencia posconflicto: Las 'barras bravas' del Clu
 b Alianza Lima en Huamanga (Ayacucho)” \nCategoría: Simposio: Antropología
  del deporte en América Latina: abordajes\, temáticas y perspectivas\nEnla
 ce: https://www.asociacionlatinoamericanadeantropologia.net/congreso2017/i
 ndex.php?option=com_jem&view=event&id=1186:identidad-y-violencia-posconfli
 cto-las-barras-bravas-del-club-alianza-lima-en-huamanga-ayacucho\n
DTSTART:20170609T110000Z
DTEND:20170609T130000Z
LOCATION:Edificio: 67 Salón: 207\,Universidad Javeriana\,Bogotá\,Colombia
SUMMARY:Identidad y violencia posconflicto: Las 'barras bravas' del Club Al
 ianza Lima en Huamanga (Ayacucho)” 
URL:https://www.asociacionlatinoamericanadeantropologia.net/congreso2017/in
 dex.php?option=com_jem&view=event&id=1186:identidad-y-violencia-posconflic
 to-las-barras-bravas-del-club-alianza-lima-en-huamanga-ayacucho
END:VEVENT
BEGIN:VEVENT
UID:event1187@Congreso 2017
DTSTAMP:20260421T030435Z
CATEGORIES:Simposio: Antropología del deporte en América Latina: abordajes\
 , temáticas y perspectivas
DESCRIPTION:Comparación de dos formas de público: la barra brava de Los Bor
 rachos del Tablón y la hinchada\, ambas del club de fútbol argentino River
  Plate\, su organización\, sus formas de aguante y su relación identitaria
 ”\nCategoría: Simposio: Antropología del deporte en América Latina: aborda
 jes\, temáticas y perspectivas\nEnlace: https://www.asociacionlatinoameric
 anadeantropologia.net/congreso2017/index.php?option=com_jem&view=event&id=
 1187:comparacion-de-dos-formas-de-publico-la-barra-brava-de-los-borrachos-
 del-tablon-y-la-hinchada-ambas-del-club-de-futbol-argentino-river-plate-su
 -organizacion-sus-formas-de-aguante-y-su-relacion-identitaria\n
DTSTART:20170609T110000Z
DTEND:20170609T130000Z
LOCATION:Edificio: 67 Salón: 207\,Universidad Javeriana\,Bogotá\,Colombia
SUMMARY:Comparación de dos formas de público: la barra brava de Los Borrach
 os del Tablón y la hinchada\, ambas del club de fútbol argentino River Pla
 te\, su organización\, sus formas de aguante y su relación identitaria”
URL:https://www.asociacionlatinoamericanadeantropologia.net/congreso2017/in
 dex.php?option=com_jem&view=event&id=1187:comparacion-de-dos-formas-de-pub
 lico-la-barra-brava-de-los-borrachos-del-tablon-y-la-hinchada-ambas-del-cl
 ub-de-futbol-argentino-river-plate-su-organizacion-sus-formas-de-aguante-y
 -su-relacion-identitaria
END:VEVENT
BEGIN:VEVENT
UID:event1188@Congreso 2017
DTSTAMP:20260421T030435Z
CATEGORIES:Simposio: Antropología del deporte en América Latina: abordajes\
 , temáticas y perspectivas
DESCRIPTION:Vengo del barrio de Boedo” La formación del espacio urbano en B
 uenos Aires por hinchas del fútbol\nCategoría: Simposio: Antropología del 
 deporte en América Latina: abordajes\, temáticas y perspectivas\nEnlace: h
 ttps://www.asociacionlatinoamericanadeantropologia.net/congreso2017/index.
 php?option=com_jem&view=event&id=1188:vengo-del-barrio-de-boedo-la-formaci
 on-del-espacio-urbano-en-buenos-aires-por-hinchas-del-futbol\n
DTSTART:20170609T110000Z
DTEND:20170609T130000Z
LOCATION:Edificio: 67 Salón: 207\,Universidad Javeriana\,Bogotá\,Colombia
SUMMARY:Vengo del barrio de Boedo” La formación del espacio urbano en Bueno
 s Aires por hinchas del fútbol
URL:https://www.asociacionlatinoamericanadeantropologia.net/congreso2017/in
 dex.php?option=com_jem&view=event&id=1188:vengo-del-barrio-de-boedo-la-for
 macion-del-espacio-urbano-en-buenos-aires-por-hinchas-del-futbol
END:VEVENT
END:VCALENDAR
