BEGIN:VCALENDAR
VERSION:2.0
PRODID:-//192.99.84.55//NONSGML kigkonsult.se iCalcreator 2.20//
CALSCALE:GREGORIAN
METHOD:PUBLISH
X-WR-TIMEZONE:UTC
BEGIN:VEVENT
UID:event1165@Congreso 2017
DTSTAMP:20260421T030441Z
CATEGORIES:Simposio: Antropologia das Emoções\, da Moralidade e dos Corpos
DESCRIPTION:Cultura Emotiva\, medos corriqueiros\, risco e sociabilidade \n
 Categoría: Simposio: Antropologia das Emoções\, da Moralidade e dos Corpos
 \nEnlace: https://www.asociacionlatinoamericanadeantropologia.net/congreso
 2017/index.php?option=com_jem&view=event&id=1165:cultura-emotiva-medos-cor
 riqueiros-risco-e-sociabilidade\n
DTSTART:20170608T090000Z
DTEND:20170608T160000Z
LOCATION:Edificio: 02 Salón: 305\,Universidad Javeriana\,Bogotá\,Colombia
SUMMARY:Cultura Emotiva\, medos corriqueiros\, risco e sociabilidade 
URL:https://www.asociacionlatinoamericanadeantropologia.net/congreso2017/in
 dex.php?option=com_jem&view=event&id=1165:cultura-emotiva-medos-corriqueir
 os-risco-e-sociabilidade
END:VEVENT
BEGIN:VEVENT
UID:event1166@Congreso 2017
DTSTAMP:20260421T030441Z
CATEGORIES:Simposio: Antropologia das Emoções\, da Moralidade e dos Corpos
DESCRIPTION:Vulnerabilidades e fragilidades interacionais: Uma reflexão etn
 ográfica sobre o cotidiano de desentendimentos e traumas \nCategoría: Simp
 osio: Antropologia das Emoções\, da Moralidade e dos Corpos\nEnlace: https
 ://www.asociacionlatinoamericanadeantropologia.net/congreso2017/index.php?
 option=com_jem&view=event&id=1166:vulnerabilidades-e-fragilidades-interaci
 onais-uma-reflexao-etnografica-sobre-o-cotidiano-de-desentendimentos-e-tra
 umas\n
DTSTART:20170608T090000Z
DTEND:20170608T160000Z
LOCATION:Edificio: 02 Salón: 305\,Universidad Javeriana\,Bogotá\,Colombia
SUMMARY:Vulnerabilidades e fragilidades interacionais: Uma reflexão etnográ
 fica sobre o cotidiano de desentendimentos e traumas 
URL:https://www.asociacionlatinoamericanadeantropologia.net/congreso2017/in
 dex.php?option=com_jem&view=event&id=1166:vulnerabilidades-e-fragilidades-
 interacionais-uma-reflexao-etnografica-sobre-o-cotidiano-de-desentendiment
 os-e-traumas
END:VEVENT
BEGIN:VEVENT
UID:event1167@Congreso 2017
DTSTAMP:20260421T030441Z
CATEGORIES:Simposio: Antropologia das Emoções\, da Moralidade e dos Corpos
DESCRIPTION:“Narrar el cuerpo migrante: hacia una biografía colectiva de la
  inmigración boliviana en São Paulo”\nCategoría: Simposio: Antropologia da
 s Emoções\, da Moralidade e dos Corpos\nEnlace: https://www.asociacionlati
 noamericanadeantropologia.net/congreso2017/index.php?option=com_jem&view=e
 vent&id=1167:narrar-el-cuerpo-migrante-hacia-una-biografia-colectiva-de-la
 -inmigracion-boliviana-en-sao-paulo\n
DTSTART:20170608T090000Z
DTEND:20170608T160000Z
LOCATION:Edificio: 02 Salón: 305\,Universidad Javeriana\,Bogotá\,Colombia
SUMMARY:“Narrar el cuerpo migrante: hacia una biografía colectiva de la inm
 igración boliviana en São Paulo”
URL:https://www.asociacionlatinoamericanadeantropologia.net/congreso2017/in
 dex.php?option=com_jem&view=event&id=1167:narrar-el-cuerpo-migrante-hacia-
 una-biografia-colectiva-de-la-inmigracion-boliviana-en-sao-paulo
END:VEVENT
BEGIN:VEVENT
UID:event1168@Congreso 2017
DTSTAMP:20260421T030441Z
CATEGORIES:Simposio: Antropologia das Emoções\, da Moralidade e dos Corpos
DESCRIPTION:'Antropología de la ira y el miedo en los espacios públicos de 
 Caracas' \nCategoría: Simposio: Antropologia das Emoções\, da Moralidade e
  dos Corpos\nEnlace: https://www.asociacionlatinoamericanadeantropologia.n
 et/congreso2017/index.php?option=com_jem&view=event&id=1168:antropologia-d
 e-la-ira-y-el-miedo-en-los-espacios-publicos-de-caracas\n
DTSTART:20170608T090000Z
DTEND:20170608T160000Z
LOCATION:Edificio: 02 Salón: 305\,Universidad Javeriana\,Bogotá\,Colombia
SUMMARY:'Antropología de la ira y el miedo en los espacios públicos de Cara
 cas' 
URL:https://www.asociacionlatinoamericanadeantropologia.net/congreso2017/in
 dex.php?option=com_jem&view=event&id=1168:antropologia-de-la-ira-y-el-mied
 o-en-los-espacios-publicos-de-caracas
END:VEVENT
BEGIN:VEVENT
UID:event1169@Congreso 2017
DTSTAMP:20260421T030441Z
CATEGORIES:Simposio: Antropologia das Emoções\, da Moralidade e dos Corpos
DESCRIPTION:Narrativas emocionales sobre la vida cotidiana de cinco mujeres
  migrantes centroamericanas en espera por regularizar su situación migrato
 ria en Tapachula. \nCategoría: Simposio: Antropologia das Emoções\, da Mor
 alidade e dos Corpos\nEnlace: https://www.asociacionlatinoamericanadeantro
 pologia.net/congreso2017/index.php?option=com_jem&view=event&id=1169:narra
 tivas-emocionales-sobre-la-vida-cotidiana-de-cinco-mujeres-migrantes-centr
 oamericanas-en-espera-por-regularizar-su-situacion-migratoria-en-tapachula
 \n
DTSTART:20170608T090000Z
DTEND:20170608T160000Z
LOCATION:Edificio: 02 Salón: 305\,Universidad Javeriana\,Bogotá\,Colombia
SUMMARY:Narrativas emocionales sobre la vida cotidiana de cinco mujeres mig
 rantes centroamericanas en espera por regularizar su situación migratoria 
 en Tapachula. 
URL:https://www.asociacionlatinoamericanadeantropologia.net/congreso2017/in
 dex.php?option=com_jem&view=event&id=1169:narrativas-emocionales-sobre-la-
 vida-cotidiana-de-cinco-mujeres-migrantes-centroamericanas-en-espera-por-r
 egularizar-su-situacion-migratoria-en-tapachula
END:VEVENT
BEGIN:VEVENT
UID:event1170@Congreso 2017
DTSTAMP:20260421T030441Z
CATEGORIES:Simposio: Antropologia das Emoções\, da Moralidade e dos Corpos
DESCRIPTION:Lo “zombie”: dispositivo corporal y lenguaje teodiceico.\nCateg
 oría: Simposio: Antropologia das Emoções\, da Moralidade e dos Corpos\nEnl
 ace: https://www.asociacionlatinoamericanadeantropologia.net/congreso2017/
 index.php?option=com_jem&view=event&id=1170:lo-zombie-dispositivo-corporal
 -y-lenguaje-teodiceico\n
DTSTART:20170608T090000Z
DTEND:20170608T160000Z
LOCATION:Edificio: 02 Salón: 305\,Universidad Javeriana\,Bogotá\,Colombia
SUMMARY:Lo “zombie”: dispositivo corporal y lenguaje teodiceico.
URL:https://www.asociacionlatinoamericanadeantropologia.net/congreso2017/in
 dex.php?option=com_jem&view=event&id=1170:lo-zombie-dispositivo-corporal-y
 -lenguaje-teodiceico
END:VEVENT
BEGIN:VEVENT
UID:event1171@Congreso 2017
DTSTAMP:20260421T030441Z
CATEGORIES:Simposio: Antropologia das Emoções\, da Moralidade e dos Corpos
DESCRIPTION:Ágape versus pasión: dos formas de amor enfrentadas en la antro
 pología porteña \nCategoría: Simposio: Antropologia das Emoções\, da Moral
 idade e dos Corpos\nEnlace: https://www.asociacionlatinoamericanadeantropo
 logia.net/congreso2017/index.php?option=com_jem&view=event&id=1171:agape-v
 ersus-pasion-dos-formas-de-amor-enfrentadas-en-la-antropologia-portena\n
DTSTART:20170608T090000Z
DTEND:20170608T160000Z
LOCATION:Edificio: 02 Salón: 305\,Universidad Javeriana\,Bogotá\,Colombia
SUMMARY:Ágape versus pasión: dos formas de amor enfrentadas en la antropolo
 gía porteña 
URL:https://www.asociacionlatinoamericanadeantropologia.net/congreso2017/in
 dex.php?option=com_jem&view=event&id=1171:agape-versus-pasion-dos-formas-d
 e-amor-enfrentadas-en-la-antropologia-portena
END:VEVENT
BEGIN:VEVENT
UID:event1172@Congreso 2017
DTSTAMP:20260421T030441Z
CATEGORIES:Simposio: Antropologia das Emoções\, da Moralidade e dos Corpos
DESCRIPTION:“Defectos tenía\, errores cometió\, pero amábamos esta persona”
 : las reacciones del pueblo cubano y de la prensa frente a la muerte de Fi
 del Castro \nCategoría: Simposio: Antropologia das Emoções\, da Moralidade
  e dos Corpos\nEnlace: https://www.asociacionlatinoamericanadeantropologia
 .net/congreso2017/index.php?option=com_jem&view=event&id=1172:defectos-ten
 ia-errores-cometio-pero-amabamos-esta-persona-las-reacciones-del-pueblo-cu
 bano-y-de-la-prensa-frente-a-la-muerte-de-fidel-castro\n
DTSTART:20170608T090000Z
DTEND:20170608T160000Z
LOCATION:Edificio: 02 Salón: 305\,Universidad Javeriana\,Bogotá\,Colombia
SUMMARY:“Defectos tenía\, errores cometió\, pero amábamos esta persona”: la
 s reacciones del pueblo cubano y de la prensa frente a la muerte de Fidel 
 Castro 
URL:https://www.asociacionlatinoamericanadeantropologia.net/congreso2017/in
 dex.php?option=com_jem&view=event&id=1172:defectos-tenia-errores-cometio-p
 ero-amabamos-esta-persona-las-reacciones-del-pueblo-cubano-y-de-la-prensa-
 frente-a-la-muerte-de-fidel-castro
END:VEVENT
BEGIN:VEVENT
UID:event1173@Congreso 2017
DTSTAMP:20260421T030441Z
CATEGORIES:Simposio: Antropologia das Emoções\, da Moralidade e dos Corpos
DESCRIPTION:Funciones antropológicas\, contextos de resignificación y decis
 iones judiciales de verdad histórica en casos de reparaciones simbólicas e
 n Colombia. \nCategoría: Simposio: Antropologia das Emoções\, da Moralidad
 e e dos Corpos\nEnlace: https://www.asociacionlatinoamericanadeantropologi
 a.net/congreso2017/index.php?option=com_jem&view=event&id=1173:funciones-a
 ntropologicas-contextos-de-resignificacion-y-decisiones-judiciales-de-verd
 ad-historica-en-casos-de-reparaciones-simbolicas-en-colombia\n
DTSTART:20170608T090000Z
DTEND:20170608T160000Z
LOCATION:Edificio: 02 Salón: 305\,Universidad Javeriana\,Bogotá\,Colombia
SUMMARY:Funciones antropológicas\, contextos de resignificación y decisione
 s judiciales de verdad histórica en casos de reparaciones simbólicas en Co
 lombia. 
URL:https://www.asociacionlatinoamericanadeantropologia.net/congreso2017/in
 dex.php?option=com_jem&view=event&id=1173:funciones-antropologicas-context
 os-de-resignificacion-y-decisiones-judiciales-de-verdad-historica-en-casos
 -de-reparaciones-simbolicas-en-colombia
END:VEVENT
BEGIN:VEVENT
UID:event1174@Congreso 2017
DTSTAMP:20260421T030441Z
CATEGORIES:Simposio: Antropologia das Emoções\, da Moralidade e dos Corpos
DESCRIPTION:El contagio del estigma carcelario a la familia del recluso \nC
 ategoría: Simposio: Antropologia das Emoções\, da Moralidade e dos Corpos
 \nEnlace: https://www.asociacionlatinoamericanadeantropologia.net/congreso
 2017/index.php?option=com_jem&view=event&id=1174:el-contagio-del-estigma-c
 arcelario-a-la-familia-del-recluso\n
DTSTART:20170608T090000Z
DTEND:20170608T160000Z
LOCATION:Edificio: 02 Salón: 305\,Universidad Javeriana\,Bogotá\,Colombia
SUMMARY:El contagio del estigma carcelario a la familia del recluso 
URL:https://www.asociacionlatinoamericanadeantropologia.net/congreso2017/in
 dex.php?option=com_jem&view=event&id=1174:el-contagio-del-estigma-carcelar
 io-a-la-familia-del-recluso
END:VEVENT
BEGIN:VEVENT
UID:event1175@Congreso 2017
DTSTAMP:20260421T030441Z
CATEGORIES:Simposio: Antropologia das Emoções\, da Moralidade e dos Corpos
DESCRIPTION:La fiesta de San Juan en el pueblo de Tarmas\, estado Vargas (V
 enezuela) como integrador comunitario a través de su significación \nCateg
 oría: Simposio: Antropologia das Emoções\, da Moralidade e dos Corpos\nEnl
 ace: https://www.asociacionlatinoamericanadeantropologia.net/congreso2017/
 index.php?option=com_jem&view=event&id=1175:la-fiesta-de-san-juan-en-el-pu
 eblo-de-tarmas-estado-vargas-venezuela-como-integrador-comunitario-a-trave
 s-de-su-significacion\n
DTSTART:20170608T090000Z
DTEND:20170608T160000Z
LOCATION:Edificio: 02 Salón: 305\,Universidad Javeriana\,Bogotá\,Colombia
SUMMARY:La fiesta de San Juan en el pueblo de Tarmas\, estado Vargas (Venez
 uela) como integrador comunitario a través de su significación 
URL:https://www.asociacionlatinoamericanadeantropologia.net/congreso2017/in
 dex.php?option=com_jem&view=event&id=1175:la-fiesta-de-san-juan-en-el-pueb
 lo-de-tarmas-estado-vargas-venezuela-como-integrador-comunitario-a-traves-
 de-su-significacion
END:VEVENT
BEGIN:VEVENT
UID:event1176@Congreso 2017
DTSTAMP:20260421T030441Z
CATEGORIES:Simposio: Antropologia das Emoções\, da Moralidade e dos Corpos
DESCRIPTION:El ritornelo. Consideraciones sobre la producción de las víctim
 as del conflicto armado en Colombia\nCategoría: Simposio: Antropologia das
  Emoções\, da Moralidade e dos Corpos\nEnlace: https://www.asociacionlatin
 oamericanadeantropologia.net/congreso2017/index.php?option=com_jem&view=ev
 ent&id=1176:el-ritornelo-consideraciones-sobre-la-produccion-de-las-victim
 as-del-conflicto-armado-en-colombia\n
DTSTART:20170608T090000Z
DTEND:20170608T160000Z
LOCATION:Edificio: 02 Salón: 305\,Universidad Javeriana\,Bogotá\,Colombia
SUMMARY:El ritornelo. Consideraciones sobre la producción de las víctimas d
 el conflicto armado en Colombia
URL:https://www.asociacionlatinoamericanadeantropologia.net/congreso2017/in
 dex.php?option=com_jem&view=event&id=1176:el-ritornelo-consideraciones-sob
 re-la-produccion-de-las-victimas-del-conflicto-armado-en-colombia
END:VEVENT
END:VCALENDAR
